BEGIN:VCALENDAR
VERSION:2.0
PRODID:-//ChamberMaster//Event Calendar 2.0//EN
METHOD:PUBLISH
X-PUBLISHED-TTL:P3D
REFRESH-INTERVAL:P3D
CALSCALE:GREGORIAN
BEGIN:VEVENT
DTSTART:20150330T210000Z
DTEND:20150330T230000Z
X-MICROSOFT-CDO-ALLDAYEVENT:FALSE
SUMMARY:TRC Victory Party\, Sponsored by Park Place Catering
DESCRIPTION:TRC Volunteers!  Join us to celebrate the end of our Total Resource Campaign!\n\nWe have a lot to celebrate and will be giving away the final incentive checks.  Food and drinks will be available\, but please RSVP to attend.  The event will be held from 4-6 pm and will take place at the Urbandale Chamber of Commerce RODAN Board Room.  Hope to see you there!\n\nIt's free to attend\, but we do ask you register.
X-ALT-DESC;FMTTYPE=text/html:TRC Volunteers!&nbsp\; Join us to celebrate the end of our Total Resource Campaign!<br />\nWe have a lot to celebrate and will be giving away the final incentive checks. &nbsp\;Food and drinks will be available\, but please RSVP to attend. &nbsp\;The event will be held from 4-6&nbsp\;pm and will take place at the Urbandale Chamber of Commerce RODAN Board Room.&nbsp\; Hope to see you there!<br />\nIt&#39\;s free to attend\, but we do ask you register.
LOCATION:Urbandale Chamber of Commerce RODAN Board Room
UID:e.1185.4085
SEQUENCE:3
DTSTAMP:20260419T222414Z
URL:http://getaquote-mobile.uniquelyurbandale.com/events/details/trc-victory-party-sponsored-by-park-place-catering-03-30-2015-4085
END:VEVENT

END:VCALENDAR
