BEGIN:VCALENDAR
VERSION:2.0
PRODID:-//ChamberMaster//Event Calendar 2.0//EN
METHOD:PUBLISH
X-PUBLISHED-TTL:P3D
REFRESH-INTERVAL:P3D
CALSCALE:GREGORIAN
BEGIN:VEVENT
DTSTART:20140310T210000Z
DTEND:20140310T230000Z
X-MICROSOFT-CDO-ALLDAYEVENT:FALSE
SUMMARY:TRC Victory Party\, Sponsored by Chocolaterie Stam
DESCRIPTION:TRC Volunteers!  Join us to celebrate the end of our Total Resource Campaign!\n\nWe have a lot to celebrate and will be giving away the final incentive checks.  Food and drinks will be available\, but please RSVP to attend.  The event will be held from 4-6 pm and will take place at Chocolaterie Stam (2901 Bell Avenue\, Des Moines).  Hope to see you there!\n\nIt's free to attend\, but we do ask you register.
X-ALT-DESC;FMTTYPE=text/html:TRC Volunteers!&nbsp\; Join us to celebrate the end of our Total Resource Campaign!<br />\nWe have a lot to celebrate and will be giving away the final incentive checks. &nbsp\;Food and drinks will be available\, but please RSVP to attend. &nbsp\;The event will be held from 4-6 pm and will take place at <strong>Chocolaterie Stam (<span style="font-family:comic sans ms\;">2901 Bell Avenue</span>\, Des Moines)</strong>. &nbsp\;Hope to see you there!<br />\nIt&#39\;s free to attend\, but we do ask you register.
LOCATION:Chocolaterie Stam (2901 Bell Avenue\, Des Moines)
UID:e.1185.3583
SEQUENCE:3
DTSTAMP:20260419T210952Z
URL:http://getaquote-mobile.uniquelyurbandale.com/events/details/trc-victory-party-sponsored-by-chocolaterie-stam-03-10-2014-3583
END:VEVENT

END:VCALENDAR
