BEGIN:VCALENDAR
VERSION:2.0
PRODID:-//ChamberMaster//Event Calendar 2.0//EN
METHOD:PUBLISH
X-PUBLISHED-TTL:P3D
REFRESH-INTERVAL:P3D
CALSCALE:GREGORIAN
BEGIN:VEVENT
DTSTART:20211207T233000Z
DTEND:20211208T003000Z
X-MICROSOFT-CDO-ALLDAYEVENT:FALSE
SUMMARY:TRC Trip Informational Session
DESCRIPTION:Congratulations TRC volunteers!  \n\n\n\nThis informational session is an opportunity to talk with the Travel Agent about Costa Rica and get your questions answered about travel to Costa Rica and the area's covid policies.  \n\n\n\nIt is not mandatory you attend\, but it is a good option to receive answers to your questions and to connect with other trip participants.
X-ALT-DESC;FMTTYPE=text/html:Congratulations TRC volunteers!&nbsp\;&nbsp\;<br />\n<br />\nThis informational session is an opportunity to talk with the Travel Agent about Costa Rica and get your questions answered about travel to Costa Rica and the area&#39\;s covid policies.&nbsp\;&nbsp\;<br />\n<br />\nIt is not mandatory you attend\, but it is a good option to receive answers to your questions and to connect with other trip participants.
LOCATION:Urbandale Chamber RODAN Board Room or Zoom
UID:e.1185.12221
SEQUENCE:3
DTSTAMP:20260424T230750Z
URL:http://getaquote-mobile.uniquelyurbandale.com/events/details/trc-trip-informational-session-12221
END:VEVENT

END:VCALENDAR
