BEGIN:VCALENDAR
VERSION:2.0
PRODID:-//ChamberMaster//Event Calendar 2.0//EN
METHOD:PUBLISH
X-PUBLISHED-TTL:P3D
REFRESH-INTERVAL:P3D
CALSCALE:GREGORIAN
BEGIN:VEVENT
DTSTART:20150205T210000Z
DTEND:20150205T230000Z
X-MICROSOFT-CDO-ALLDAYEVENT:FALSE
SUMMARY:TRC Training - Thursday
DESCRIPTION:Open to TRC Volunteers Only! \n\n\n\nPlease sign up for training on either the 5th or 6th.  All volunteers MUST go through training before they can start working with members to sell sponsorships or turn in contracts. \n\nTraining Dates/Times: Thursday\, February 5th from 3-5 p.m. or Friday\, February 6th from 8:30 - 10:30 a.m.\n\nAll trainings will take place at the RODAN Board Room\, Urbandale Chamber of Commerce\, 2830 100th St.\, #110\, Urbandale\, IA
X-ALT-DESC;FMTTYPE=text/html:Open to TRC&nbsp\;Volunteers Only!&nbsp\;<br />\n<br />\nPlease sign up for training on either the 5th or 6th.&nbsp\; All volunteers MUST go through training before they can start working with members to sell sponsorships or turn in contracts.&nbsp\;<br />\nTraining Dates/Times: Thursday\, February 5th from 3-5 p.m. or Friday\, February 6th from 8:30 - 10:30 a.m.<br />\nAll trainings will take place at the&nbsp\;RODAN&nbsp\;Board Room\,&nbsp\;Urbandale&nbsp\;Chamber of Commerce\, 2830&nbsp\;100th&nbsp\;St.\, #110\,&nbsp\;Urbandale\, IA
LOCATION:RODAN Board Room\, Urbandale Chamber of Commerce\, 2830 100th St.\, #110\, Urbandale\, IA
UID:e.1185.4006
SEQUENCE:3
DTSTAMP:20260419T222200Z
URL:http://getaquote-mobile.uniquelyurbandale.com/events/details/trc-training-thursday-02-05-2015-4006
END:VEVENT

END:VCALENDAR
