BEGIN:VCALENDAR
VERSION:2.0
PRODID:-//ChamberMaster//Event Calendar 2.0//EN
METHOD:PUBLISH
X-PUBLISHED-TTL:P3D
REFRESH-INTERVAL:P3D
CALSCALE:GREGORIAN
BEGIN:VEVENT
DTSTART:20150316T130000Z
DTEND:20150316T140000Z
X-MICROSOFT-CDO-ALLDAYEVENT:FALSE
SUMMARY:TRC Reward Session
DESCRIPTION:TRC Volunteers! Join us every week to gain knowledge from our speakers and celebrate your victories during this campaign.  Many prizes will be given and it's always a lot of fun.  Free to attend but please register so we can accommodate food and drinks.  \n\nLocation: Urbandale Chamber of Commerce RODAN Board Room\n\nTime: 8-9 am \n\nCost: FREE for TRC volunteers but registration is mandatory!\n\nGuest Speaker: Greg Thompson\, ActionCoach Business Coaching\n\nTopic: Sales Calculation
X-ALT-DESC;FMTTYPE=text/html:TRC Volunteers! Join us every week to gain knowledge from our speakers and celebrate your victories&nbsp\;during this campaign.&nbsp\; Many prizes will be given and it&#39\;s always a lot of fun.&nbsp\; Free to attend but please register so we can accommodate food and drinks. &nbsp\;<br />\nLocation: Urbandale Chamber of Commerce RODAN Board Room<br />\nTime: 8-9 am&nbsp\;<br />\nCost: FREE for TRC&nbsp\;volunteers but registration is mandatory!<br />\n<span style="font-size: 12.8000001907349px\; line-height: 16.6399993896484px\;">Guest Speaker: Greg Thompson\, ActionCoach Business Coaching<br />\nTopic: Sales Calculation</span>
LOCATION:Urbandale Chamber of Commerce RODAN Board Room
UID:e.1185.4169
SEQUENCE:3
DTSTAMP:20260419T222136Z
URL:http://getaquote-mobile.uniquelyurbandale.com/events/details/trc-reward-session-03-16-2015-4169
END:VEVENT

END:VCALENDAR
