BEGIN:VCALENDAR
VERSION:2.0
PRODID:-//ChamberMaster//Event Calendar 2.0//EN
METHOD:PUBLISH
X-PUBLISHED-TTL:P3D
REFRESH-INTERVAL:P3D
CALSCALE:GREGORIAN
BEGIN:VEVENT
DTSTART:20150309T210000Z
DTEND:20150309T220000Z
X-MICROSOFT-CDO-ALLDAYEVENT:FALSE
SUMMARY:TRC Reward Session
DESCRIPTION:TRC Volunteers! Join us every week to gain knowledge from our speakers and celebrate your victories during this campaign.  Many prizes will be given and it's always a lot of fun.  Free to attend but please register so we can accommodate food and drinks.  \n\nLocation: Urbandale Chamber of Commerce RODAN Board Room\n\nTime: 4-5 pm\n\nCost: FREE for TRC volunteers but registration is mandatory!\n\nGuest Speaker: Callista Gould\, Culture and Manners Institute\n\nTopic: Sales Etiquette and Building Relationships
X-ALT-DESC;FMTTYPE=text/html:<p>TRC Volunteers! Join us every week to gain knowledge from our speakers and celebrate your victories&nbsp\;during this campaign.&nbsp\; Many prizes will be given and it&#39\;s always a lot of fun.&nbsp\; Free to attend but please register so we can accommodate food and drinks. &nbsp\;<br />\nLocation: Urbandale Chamber of Commerce RODAN Board Room<br />\nTime: 4-5 pm<br />\nCost: FREE for TRC&nbsp\;volunteers but registration is mandatory!<br />\n<span style="font-size: 12.8000001907349px\; line-height: 16.6399993896484px\;">Guest Speaker: Callista Gould\,&nbsp\;</span>Culture and Manners Institute<br />\nTopic: Sales Etiquette and Building Relationships</p>\n
LOCATION:Urbandale Chamber of Commerce RODAN Board Room
UID:e.1185.4168
SEQUENCE:3
DTSTAMP:20260419T234629Z
URL:http://getaquote-mobile.uniquelyurbandale.com/events/details/trc-reward-session-03-09-2015-4168
END:VEVENT

END:VCALENDAR
