BEGIN:VCALENDAR
VERSION:2.0
PRODID:-//ChamberMaster//Event Calendar 2.0//EN
METHOD:PUBLISH
X-PUBLISHED-TTL:P3D
REFRESH-INTERVAL:P3D
CALSCALE:GREGORIAN
BEGIN:VEVENT
DTSTART:20140303T220000Z
DTEND:20140303T233000Z
X-MICROSOFT-CDO-ALLDAYEVENT:FALSE
SUMMARY:TRC Reward Session
DESCRIPTION:TRC Volunteers! Join us every week for a early evening social to celebrate your victories during this campaign.  Many prizes will be given and it's always a lot of fun.  Free to attend but please register so we can accommodate food and drinks.  \n\nLocation: Deerfield Retirement Community (13731 Hickman Rd.\, Urbandale)\n\nTime: 4:00-5:30 pm\n\nCost: FREE for TRC volunteers but registration is mandatory!
X-ALT-DESC;FMTTYPE=text/html:TRC Volunteers! Join us every week for a early evening social to celebrate your victories during this campaign.&nbsp\; Many prizes will be given and it&#39\;s always a lot of fun.&nbsp\; Free to attend but please register so we can accommodate food and drinks. &nbsp\;<br />\nLocation:&nbsp\;Deerfield Retirement Community (13731 Hickman Rd.\, Urbandale)<br />\nTime: 4:00-5:30 pm<br />\nCost: FREE for TRC&nbsp\;volunteers but registration is mandatory!
LOCATION:Deerfield Retirement Community (13731 Hickman Rd.\, Urbandale)
UID:e.1185.3688
SEQUENCE:3
DTSTAMP:20260419T210019Z
URL:http://getaquote-mobile.uniquelyurbandale.com/events/details/trc-reward-session-03-03-2014-3688
END:VEVENT

END:VCALENDAR
