BEGIN:VCALENDAR
VERSION:2.0
PRODID:-//ChamberMaster//Event Calendar 2.0//EN
METHOD:PUBLISH
X-PUBLISHED-TTL:P3D
REFRESH-INTERVAL:P3D
CALSCALE:GREGORIAN
BEGIN:VEVENT
DTSTART:20150216T220000Z
DTEND:20150216T230000Z
X-MICROSOFT-CDO-ALLDAYEVENT:FALSE
SUMMARY:TRC Reward Session
DESCRIPTION:TRC Volunteers! Join us every week to gain knowledge from our speakers and celebrate your victories during this campaign.  Many prizes will be given and it's always a lot of fun.  Free to attend but please register so we can accommodate food and drinks.  \n\nLocation: Urbandale Chamber of Commerce RODAN Board Room\n\nTime: 4-5 pm\n\nCost: FREE for TRC volunteers but registration is mandatory!\n\nGuest Speaker: Meg Fitz\, Greater Des Moines Partnership\n\nTopic: Shapiro study and how to use it to gain new members
X-ALT-DESC;FMTTYPE=text/html:TRC Volunteers! Join us every week to gain knowledge from our speakers and celebrate your victories&nbsp\;during this campaign.&nbsp\; Many prizes will be given and it&#39\;s always a lot of fun.&nbsp\; Free to attend but please register so we can accommodate food and drinks. &nbsp\;<br />\nLocation: Urbandale Chamber of Commerce RODAN Board Room<br />\nTime: 4-5 pm<br />\nCost: FREE for TRC&nbsp\;volunteers but registration is mandatory!<br />\nGuest Speaker: Meg Fitz\, Greater Des Moines Partnership<br />\nTopic: Shapiro study and how to use it to gain new members
LOCATION:Urbandale Chamber of Commerce RODAN Board Room
UID:e.1185.4009
SEQUENCE:3
DTSTAMP:20260419T210504Z
URL:http://getaquote-mobile.uniquelyurbandale.com/events/details/trc-reward-session-02-16-2015-4009
END:VEVENT

END:VCALENDAR
