BEGIN:VCALENDAR
VERSION:2.0
PRODID:-//ChamberMaster//Event Calendar 2.0//EN
METHOD:PUBLISH
X-PUBLISHED-TTL:P3D
REFRESH-INTERVAL:P3D
CALSCALE:GREGORIAN
BEGIN:VEVENT
DTSTART:20200224T220000Z
DTEND:20200224T230000Z
X-MICROSOFT-CDO-ALLDAYEVENT:FALSE
SUMMARY:TRC Rally Session - Sponsored by Goodwill Industries
DESCRIPTION:TRC Volunteers! Join us every week to celebrate your victories during this campaign and have some fun with your teammates and other volunteers. Prizes and checks will be handed out (must be present to win!) Free to attend\, but please register so we can accommodate food and drinks.  \n\n\n\nWE ARE ANNOUNCING THE TRIP LOCATION ON MONDAY - BE SURE TO COME....Oh...and we have 3 contracts we are giving away.  Only those in attendance on Monday will qualify. :)
X-ALT-DESC;FMTTYPE=text/html:<span style="font-family: arial\, sans-serif\; font-size: 13.3333px\;">TRC Volunteers! Join us every week to celebrate your victories&nbsp\;during this campaign and have some fun with your teammates and other volunteers.&nbsp\;Prizes and checks will be handed out (must be present to win!)&nbsp\;</span><em style="font-family: arial\, sans-serif\; font-size: 13.3333px\;"><strong>Free to attend\, but please register so we can accommodate food and drinks.&nbsp\;&nbsp\;<br />\n<br />\nWE ARE ANNOUNCING THE TRIP LOCATION ON MONDAY - BE SURE TO COME....Oh...and we have 3 contracts we are giving away.&nbsp\; Only those in attendance on Monday will qualify. :)</strong></em>
LOCATION:Goodwill Industries 5355 NW 86th Street Johnston\, IA
UID:e.1185.10460
SEQUENCE:3
DTSTAMP:20260423T161941Z
URL:http://getaquote-mobile.uniquelyurbandale.com/events/details/trc-rally-session-sponsored-by-goodwill-industries-10460
END:VEVENT

END:VCALENDAR
