BEGIN:VCALENDAR
VERSION:2.0
PRODID:-//ChamberMaster//Event Calendar 2.0//EN
METHOD:PUBLISH
X-PUBLISHED-TTL:P3D
REFRESH-INTERVAL:P3D
CALSCALE:GREGORIAN
BEGIN:VEVENT
DTSTART:20150209T180000Z
DTEND:20150209T190000Z
X-MICROSOFT-CDO-ALLDAYEVENT:FALSE
SUMMARY:TRC Kick Off\, Presented by In the Bag Corporate Cuisine
DESCRIPTION:TRC Volunteers!  Join us for our TRC Kick Off event from 12-1 pm at the Urbandale Chamber RODAN Board Room (2830 100th Street\, Ste 110).\n\n\n\nAt this event\, teams and team goals will be announced as well as great networking and TRC tips!\n\n\n\nFree for TRC volunteers to attend\, but please register so we know how many to provide for.  Lunch will be provided.
X-ALT-DESC;FMTTYPE=text/html:TRC Volunteers!&nbsp\; Join us for our TRC Kick Off event from 12-1 pm at the Urbandale Chamber RODAN Board Room (2830 100th Street\, Ste 110).<br />\n<br />\nAt this event\, teams and team goals will be announced as well as great networking and TRC tips!<br />\n<br />\nFree for TRC volunteers to attend\, but please register so we know how many to provide for. &nbsp\;Lunch will be provided.
LOCATION:Urbandale Chamber RODAN Board Room (2830 100th Street\, Ste 110).
UID:e.1185.4008
SEQUENCE:3
DTSTAMP:20260419T211521Z
URL:http://getaquote-mobile.uniquelyurbandale.com/events/details/trc-kick-off-presented-by-in-the-bag-corporate-cuisine-02-09-2015-4008
END:VEVENT

END:VCALENDAR
