BEGIN:VCALENDAR
VERSION:2.0
PRODID:-//ChamberMaster//Event Calendar 2.0//EN
METHOD:PUBLISH
X-PUBLISHED-TTL:P3D
REFRESH-INTERVAL:P3D
CALSCALE:GREGORIAN
BEGIN:VEVENT
DTSTART:20160616T170000Z
DTEND:20160811T170000Z
X-MICROSOFT-CDO-ALLDAYEVENT:FALSE
SUMMARY:Traveling Exhibit: "Apron Strings: Ties to the Past"
DESCRIPTION:Explore the symbolism\, design and uses of aprons through time. Living History Farms hosts this Mid-America Arts Alliance traveling exhibition\, featuring 51 vintage and contemporary examples of aprons. From the 1900s through the present\, aprons reflect changing attitudes towards work\, gender roles\, and cultural heritage. Exhibit is included with regular Living History Farms admission.
X-ALT-DESC;FMTTYPE=text/html:Explore the symbolism\, design and uses of aprons through time. Living History Farms hosts this Mid-America Arts Alliance traveling exhibition\, featuring 51 vintage and contemporary examples of aprons. From the 1900s through the present\, aprons reflect changing attitudes towards work\, gender roles\, and cultural heritage. Exhibit is included with regular Living History Farms admission.
LOCATION:Living History Farms 11121 Hickman Road Urbandale\, IA 50322
UID:e.1185.4695
SEQUENCE:3
DTSTAMP:20260420T212606Z
URL:http://getaquote-mobile.uniquelyurbandale.com/events/details/traveling-exhibit-apron-strings-ties-to-the-past-06-16-2016-4695
END:VEVENT

END:VCALENDAR
