BEGIN:VCALENDAR
VERSION:2.0
PRODID:-//ChamberMaster//Event Calendar 2.0//EN
METHOD:PUBLISH
X-PUBLISHED-TTL:P3D
REFRESH-INTERVAL:P3D
CALSCALE:GREGORIAN
BEGIN:VEVENT
DTSTART:20160507T140000Z
DTEND:20160507T210000Z
X-MICROSOFT-CDO-ALLDAYEVENT:FALSE
SUMMARY:Tractor Day
DESCRIPTION:Our friends from Van Wall Equipment are all about tractors! They will be bringing an impressive display of new and antique John Deere tractors to our front lawn\, along with other fun tractor related activities. Free and open to the general public. Admission is required to visit Living History Farms\, which is always FREE for current LHF members.
X-ALT-DESC;FMTTYPE=text/html:Our friends from Van Wall Equipment are all about tractors! They will be bringing an impressive display of new and antique John Deere tractors to our front lawn\, along with other fun tractor related activities. Free and open to the general public. Admission is required to visit Living History Farms\, which is always FREE for current LHF members.
LOCATION:Living History Farms 11121 Hickman Road Urbandale\, IA 50322
UID:e.1185.4690
SEQUENCE:3
DTSTAMP:20260420T183014Z
URL:http://getaquote-mobile.uniquelyurbandale.com/events/details/tractor-day-05-07-2016-4690
END:VEVENT

END:VCALENDAR
