BEGIN:VCALENDAR
VERSION:2.0
PRODID:-//ChamberMaster//Event Calendar 2.0//EN
METHOD:PUBLISH
X-PUBLISHED-TTL:P3D
REFRESH-INTERVAL:P3D
CALSCALE:GREGORIAN
BEGIN:VEVENT
DTSTART:20200127T173000Z
DTEND:20200127T190000Z
X-MICROSOFT-CDO-ALLDAYEVENT:FALSE
SUMMARY:Total Resource Campaign Kick Off Volunteer Event\, Presented by IN the Bag
DESCRIPTION:Calling all TRC volunteers!  It is time to officially kick off the 2020 Total Resource Campaign!  \n\n\n\nThis event is only open to TRC volunteers.  Over lunch we connect as a full group for the first time to unveil team names\, team goals and to hear any last-minute campaign announcements.  Lunch is provided by our Presenting sponsor of the Kick Off event\, IN the Bag!
X-ALT-DESC;FMTTYPE=text/html:<span style="color: rgb(51\, 51\, 51)\; font-family: sans-serif\, Arial\, Verdana\, &quot\;Trebuchet MS&quot\;\; font-size: 13px\; background-color: rgb(255\, 255\, 255)\;">Calling all TRC volunteers!&nbsp\; It is time to officially kick off the 2020 Total Resource Campaign!&nbsp\;&nbsp\;</span><br style="color: rgb(51\, 51\, 51)\; font-family: sans-serif\, Arial\, Verdana\, &quot\;Trebuchet MS&quot\;\; font-size: 13px\;">\n<br style="color: rgb(51\, 51\, 51)\; font-family: sans-serif\, Arial\, Verdana\, &quot\;Trebuchet MS&quot\;\; font-size: 13px\;">\n<span style="color: rgb(51\, 51\, 51)\; font-family: sans-serif\, Arial\, Verdana\, &quot\;Trebuchet MS&quot\;\; font-size: 13px\; background-color: rgb(255\, 255\, 255)\;">This event is only open to TRC volunteers.&nbsp\; Over lunch we connect as a full group for the first time to unveil team names\, team goals and to hear any last-minute campaign announcements.&nbsp\; Lunch is provided by our Presenting sponsor of the Kick Off event\, IN the Bag!&nbsp\;&nbsp\;</span>
LOCATION:Urbandale Chamber of Commerce 2830 100th St.\, Ste. 110 Urbandale
UID:e.1185.10525
SEQUENCE:3
DTSTAMP:20260423T144718Z
URL:http://getaquote-mobile.uniquelyurbandale.com/events/details/total-resource-campaign-kick-off-volunteer-event-presented-by-in-the-bag-01-27-2020-10525
END:VEVENT

END:VCALENDAR
