BEGIN:VCALENDAR
VERSION:2.0
PRODID:-//ChamberMaster//Event Calendar 2.0//EN
METHOD:PUBLISH
X-PUBLISHED-TTL:P3D
REFRESH-INTERVAL:P3D
CALSCALE:GREGORIAN
BEGIN:VEVENT
DTSTART:20161014T130000Z
DTEND:20161015T160000Z
X-MICROSOFT-CDO-ALLDAYEVENT:FALSE
SUMMARY:Tiny Treasures Preschool Consignment Sale
DESCRIPTION:Tiny Treasures Lutheran Preschool is holding its Fall Consignment Sale for families to buy and sell gently used children's items. Quality items at a price you will love!!! Proceeds will benefit Tiny Treasures Lutheran Preschool! Tiny
X-ALT-DESC;FMTTYPE=text/html:Tiny Treasures Lutheran Preschool is holding its Fall Consignment Sale for families to buy and sell gently used children&rsquo\;s items. Quality items at a price you will love!!! Proceeds will benefit Tiny Treasures Lutheran Preschool! Tiny
LOCATION:Family Life Center of Gloria Dei Lutheran Church 8301 Aurora Ave. Urbandale\, IA 50322
UID:e.1185.4915
SEQUENCE:3
DTSTAMP:20260421T034428Z
URL:http://getaquote-mobile.uniquelyurbandale.com/events/details/tiny-treasures-preschool-consignment-sale-4915
END:VEVENT

END:VCALENDAR
