BEGIN:VCALENDAR
VERSION:2.0
PRODID:-//ChamberMaster//Event Calendar 2.0//EN
METHOD:PUBLISH
X-PUBLISHED-TTL:P3D
REFRESH-INTERVAL:P3D
CALSCALE:GREGORIAN
BEGIN:VEVENT
DTSTART:20160122T150000Z
DTEND:20160122T220000Z
X-MICROSOFT-CDO-ALLDAYEVENT:FALSE
SUMMARY:The Success Factor Workshop
DESCRIPTION:Women business owners and professionals...\n\n\n\nFeel like you're on a constant treadmill trying to reach the next level of success?\n\nDo you outwardly appear successful\, yet on the inside know something is missing?\n\nWant to achieve greater fulfillment and success on your own terms?\n\n\n\nAttend the Success Factor Workshop on January 22\n\n \n\nAfter the workshop\, you'll walk away with:\n\n\n* A clear definition of what success means to YOU\n\n* A deep sense of self-awareness that will transform your ability to achieve your own brand of success in work and life with greater ease and impact\n\n* A clear vision of where you want to go and what you want to achieve to get and keep you on track\n\nA decision-making tool that will help you make the right decisions\, set the right goals\, and effectively manage your time and resources\n\n*Your top actionable goals clearly mapped out\n\n\n\nThe cost for this full-day workshop is $97 and includes lunch. Pre-registration is required.\n\n\n\nClick here to learn more and register for the Success Factor Workshop.
X-ALT-DESC;FMTTYPE=text/html:<div style="text-align:center"><strong><span style="font-size:14px">Women business owners and professionals...</span></strong><br />\n<br />\n<span style="font-size:16px">Feel like you&rsquo\;re on a constant treadmill trying to reach the next level of success?<br />\nDo you outwardly appear successful\, yet on the inside know something is missing?<br />\nWant to achieve greater fulfillment and success on your <em>own</em> terms?</span><br />\n<br />\n<strong><span style="font-size:22px">Attend the Success Factor Workshop on January 22</span></strong><br />\n&nbsp\;</div>\n\n<div><span style="font-size:16px">After the workshop\, you&rsquo\;ll walk away with:</span></div>\n<br />\n<span style="font-size:14px">* A clear definition of <strong>what success means to YOU</strong></span><br />\n<span style="font-size:14px">* A deep sense of self-awareness that will <strong>transform your ability to achieve your own brand of success</strong> in work and life with greater ease and impact</span><br />\n<span style="font-size:14px"><strong>* A clear vision</strong> of where you want to go and what you want to achieve to get and keep you on track</span><br />\n<span style="font-size:14px"><strong>A decision-making tool</strong> that will help you make the right decisions\, set the right goals\, and effectively manage your time and resources</span><br />\n<span style="font-size:14px"><strong>*Your top actionable goals</strong> clearly mapped out</span><br />\n<br />\nThe cost for this full-day workshop is $97 and includes lunch. Pre-registration is required.<br />\n<br />\n<span style="font-size:16px"><strong><a href="http://www.juliesmithcoaching.com/success-factor-workshop/" target="_blank">Click here to learn more and register for the Success Factor Workshop</a></strong>.</span><br />\n&nbsp\;
LOCATION:Stoney Creek Inn\, 5291 Stoney Creek Ct\, Johnston\, IA 50131
UID:e.1185.4667
SEQUENCE:3
DTSTAMP:20260420T124555Z
URL:http://getaquote-mobile.uniquelyurbandale.com/events/details/the-success-factor-workshop-01-22-2016-4667
END:VEVENT

END:VCALENDAR
