BEGIN:VCALENDAR
VERSION:2.0
PRODID:-//ChamberMaster//Event Calendar 2.0//EN
METHOD:PUBLISH
X-PUBLISHED-TTL:P3D
REFRESH-INTERVAL:P3D
CALSCALE:GREGORIAN
BEGIN:VEVENT
DTSTART:20160501T210000Z
DTEND:20160501T230000Z
X-MICROSOFT-CDO-ALLDAYEVENT:FALSE
SUMMARY:The Blueberrian Lager is BACK!
DESCRIPTION:Ring in May Day with the annual tapping of our Blueberrian Lager! We will be hosting a 'Charlie and the Chocolate Factory' themed party complete with games\, prizes\, food and most importantly-BEER! Both guests and staff are encouraged to get in the spirit and dress as their favorite character from the movie. Be the first to try this crowd-favorite\, because once it's gone\, it's GONE (until next year)!
X-ALT-DESC;FMTTYPE=text/html:Ring in May Day with the annual tapping of our Blueberrian Lager! We will be hosting a &#39\;Charlie and the Chocolate Factory&#39\; themed party complete with games\, prizes\, food and most importantly-BEER! Both guests and staff are encouraged to get in the spirit and dress as their favorite character from the movie. Be the first to try this crowd-favorite\, because once it&#39\;s gone\, it&#39\;s GONE (until next year)!
LOCATION:Granite City Food & Brewery-12801 University Ave. Clive\, Iowa
UID:e.1185.4787
SEQUENCE:3
DTSTAMP:20260420T195523Z
URL:http://getaquote-mobile.uniquelyurbandale.com/events/details/the-blueberrian-lager-is-back-05-01-2016-4787
END:VEVENT

END:VCALENDAR
