BEGIN:VCALENDAR
VERSION:2.0
PRODID:-//ChamberMaster//Event Calendar 2.0//EN
METHOD:PUBLISH
X-PUBLISHED-TTL:P3D
REFRESH-INTERVAL:P3D
CALSCALE:GREGORIAN
BEGIN:VEVENT
DTSTART:20190126T160000Z
DTEND:20190126T180000Z
X-MICROSOFT-CDO-ALLDAYEVENT:FALSE
SUMMARY:The Amazing Chemistry Show feat. Josh Denhart
DESCRIPTION:When is a good time to talk to your kiddos about money? How do you teach them about good spending habits? When should they start saving? Join Compass Financial Services and Josh Denhart for an entertaining and educational event about money on Saturday\, January 26th. We will also have coffee\, donuts\, and other refreshments during the event!
X-ALT-DESC;FMTTYPE=text/html:<span style="color: rgb(88\, 89\, 91)\; font-family: arial\; font-size: 16px\; background-color: rgb(230\, 231\, 232)\;">When is a good time to talk to your kiddos about money? How do you teach them about good spending habits? When should they start saving? Join Compass Financial Services and Josh Denhart for an entertaining and educational event about money on Saturday\, January 26th. We will also have coffee\, donuts\, and other refreshments during the event!</span>
LOCATION:Compass Financial 4801 Westown Pkwy West Des Moines IA
UID:e.1185.9377
SEQUENCE:3
DTSTAMP:20260422T172607Z
URL:http://getaquote-mobile.uniquelyurbandale.com/events/details/the-amazing-chemistry-show-feat-josh-denhart-9377
END:VEVENT

END:VCALENDAR
