BEGIN:VCALENDAR
VERSION:2.0
PRODID:-//ChamberMaster//Event Calendar 2.0//EN
METHOD:PUBLISH
X-PUBLISHED-TTL:P3D
REFRESH-INTERVAL:P3D
CALSCALE:GREGORIAN
BEGIN:VEVENT
DTSTART:20151210T223000Z
DTEND:20151210T233000Z
X-MICROSOFT-CDO-ALLDAYEVENT:FALSE
SUMMARY:Team Urbandale for Venture School Informational Session
DESCRIPTION:To support entrepreneurs in Urbandale\, the City and Chamber have partnered to fund an Urbandale team for Venture School at the Des Moines campus of the University of Iowa's Jonn Pappajohn Entrepreneurial Center. UI Venture School increases the chances of startup success and accelerates the timeline to launch\, through experiential learning activities including customer research\, insight from experienced entrepreneurs\, and workshops. All interested Urbandale entrepreneurs are invited to attend an informational session at the Urbandale Chamber of Commerce (2830 100th Street\, Ste 110) on Thursday\, December 10th from 4:30   5:30 PM.
X-ALT-DESC;FMTTYPE=text/html:<span style="font-family: Arial\; font-size: 14.4px\; line-height: 20.16px\;">To support entrepreneurs in Urbandale\, the City and Chamber have partnered to fund an Urbandale team for Venture School at the Des Moines campus of the University of Iowa&rsquo\;s Jonn Pappajohn Entrepreneurial Center. UI Venture School increases the chances of startup success and accelerates the timeline to launch\, through experiential learning activities including customer research\, insight from experienced entrepreneurs\, and workshops. All interested Urbandale entrepreneurs are invited to attend an informational session at the Urbandale Chamber of Commerce (2830 100th Street\, Ste 110) on Thursday\, December 10th from 4:30 &ndash\; 5:30 PM.</span>
LOCATION:RODAN Board Room\, Urbandale Chamber of Commerce (2830 100th Street\, Ste 110)
UID:e.1185.4430
SEQUENCE:3
DTSTAMP:20260420T114457Z
URL:http://getaquote-mobile.uniquelyurbandale.com/events/details/team-urbandale-for-venture-school-informational-session-12-10-2015-4430
END:VEVENT

END:VCALENDAR
