BEGIN:VCALENDAR
VERSION:2.0
PRODID:-//ChamberMaster//Event Calendar 2.0//EN
METHOD:PUBLISH
X-PUBLISHED-TTL:P3D
REFRESH-INTERVAL:P3D
CALSCALE:GREGORIAN
BEGIN:VEVENT
DTSTART:20160624T140000Z
DTEND:20160624T210000Z
X-MICROSOFT-CDO-ALLDAYEVENT:FALSE
SUMMARY:Teacher Appreciation Day
DESCRIPTION:Living History Farms says thank you to all of the teachers who put in the time and effort to bring learning to life for their students. If you've never been to Living History Farms with your students\, come out to preview what the museum has to offer. Or if you've already visited many times with students\, enjoy exploring at a leisurely pace. Education staff will be on hand to lead short informational sessions on incorporating an educational visit or program into your classroom. Teachers admitted free\; family members pay regular admission fee. Teachers must present school ID to receive free admission.
X-ALT-DESC;FMTTYPE=text/html:Living History Farms says thank you to all of the teachers who put in the time and effort to bring learning to life for their students. If you&#39\;ve never been to Living History Farms with your students\, come out to preview what the museum has to offer. Or if you&#39\;ve already visited many times with students\, enjoy exploring at a leisurely pace. Education staff will be on hand to lead short informational sessions on incorporating an educational visit or program into your classroom.&nbsp\;Teachers admitted free\; family members pay regular admission fee. Teachers must present school ID to receive free admission.
LOCATION:Living History Farms 11121 Hickman Road Urbandale\, IA 50322
UID:e.1185.4693
SEQUENCE:3
DTSTAMP:20260420T195550Z
URL:http://getaquote-mobile.uniquelyurbandale.com/events/details/teacher-appreciation-day-06-24-2016-4693
END:VEVENT

END:VCALENDAR
