BEGIN:VCALENDAR
VERSION:2.0
PRODID:-//ChamberMaster//Event Calendar 2.0//EN
METHOD:PUBLISH
X-PUBLISHED-TTL:P3D
REFRESH-INTERVAL:P3D
CALSCALE:GREGORIAN
BEGIN:VEVENT
DTSTART:20161109T180000Z
DTEND:20161109T190000Z
X-MICROSOFT-CDO-ALLDAYEVENT:FALSE
SUMMARY:Tax update and affordable care act
DESCRIPTION:As the year end comes upon us\, we want to inform you of any tax law changes that we are aware of. Year end planning can make all the difference when it comes to paying the government or getting a refund. In this tax update we will spend some time discussing the affordable care act and see if you are compliant.
X-ALT-DESC;FMTTYPE=text/html:As the year end comes upon us\, we want to inform you of any tax law changes that we are aware of. Year end planning can make all the difference when it comes to paying the government or getting a refund. In this tax update we will spend some time discussing the affordable care act and see if you are compliant.
LOCATION:webinar
UID:e.1185.4879
SEQUENCE:3
DTSTAMP:20260421T035145Z
URL:http://getaquote-mobile.uniquelyurbandale.com/events/details/tax-update-and-affordable-care-act-11-09-2016-4879
END:VEVENT

END:VCALENDAR
