BEGIN:VCALENDAR
VERSION:2.0
PRODID:-//ChamberMaster//Event Calendar 2.0//EN
METHOD:PUBLISH
X-PUBLISHED-TTL:P3D
REFRESH-INTERVAL:P3D
CALSCALE:GREGORIAN
BEGIN:VEVENT
DTSTART:20161118T000000Z
DTEND:20161118T030000Z
X-MICROSOFT-CDO-ALLDAYEVENT:FALSE
SUMMARY:Tall Tales with Tallgrass Brewing Company
DESCRIPTION:The MudbuM Supply Shack has teamed up with Tallgrass Brewing Company out of Manhattan\, Kansas for an evening of free beer sampling and appetizers along with a great atmosphere to come share your tales of the outdoors with others from the area. We will be having one night only sales as well as prizes and giveaways. All at no cost to you!! Come join us!!!
X-ALT-DESC;FMTTYPE=text/html:The MudbuM Supply Shack has teamed up with Tallgrass Brewing Company out of Manhattan\, Kansas for an evening of free beer sampling and appetizers along with a great atmosphere to come share your tales of the outdoors with others from the area. We will be having one night only sales as well as prizes and giveaways. All at no cost to you!! Come join us!!!
LOCATION:Mudbum Supply Shack 3894 NW Urbandale Dr. Urbandale\, IA
UID:e.1185.4937
SEQUENCE:3
DTSTAMP:20260421T035141Z
URL:http://getaquote-mobile.uniquelyurbandale.com/events/details/tall-tales-with-tallgrass-brewing-company-4937
END:VEVENT

END:VCALENDAR
