BEGIN:VCALENDAR
VERSION:2.0
PRODID:-//ChamberMaster//Event Calendar 2.0//EN
METHOD:PUBLISH
X-PUBLISHED-TTL:P3D
REFRESH-INTERVAL:P3D
CALSCALE:GREGORIAN
BEGIN:VEVENT
DTSTART:20200228T150000Z
DTEND:20200228T160000Z
X-MICROSOFT-CDO-ALLDAYEVENT:FALSE
SUMMARY:Talk with Officials\, Presented by Jon Smith - Iowa Realty
DESCRIPTION:Talk with Officials is a forum for the business community to connect with elected officials representing Urbandale at the State\, County\, City and School District.  Space is limited.\n\n\n\nThe January and April Talk with Officials events are open to the general public and held on the last Saturday of each respective month.  The February and March Talk with Officials events are open to the public\, however REGISTRATION IS REQUIRED  because seating is limited and members of the Chamber will receive first seating preference.  This event is held during the work-week.   This month\, the event will take place at the Urbandale Chamber of Commerce\, 2830 100th St.\, Ste. 110\, Urbandale.\n\n\n\n Officials attending include: Mayor Robert Andeweg\, Senator Brad Zaun\, Representative John Forbes\, Polk County Supervisor Bob Brownell and School Board President Katherine Howsare.\n\n\n\nInvited: Representative Chris Hagenow and Senator Jake Chapman\n\n\n\nThank you to Presenting Sponsor\, Jon Smith\, Iowa Realty \n\nEvent sponsors: McGough Construction & Midland Credit Union
X-ALT-DESC;FMTTYPE=text/html:<span style="font-family:verdana\;"><span style="font-size: 14px\;">Talk with Officials is a forum for the business community to connect with elected officials representing Urbandale at the State\, County\, City and School District.&nbsp\; Space is limited.</span><br style="font-family: arial\, sans-serif\; font-size: 14px\;" />\n<br style="font-family: arial\, sans-serif\; font-size: 14px\;" />\n<span style="font-size: 14px\;">The January and April Talk with Officials events are open to the general public and held on the last Saturday of each respective month.&nbsp\; The February and March Talk with Officials events are open to the public\, however&nbsp\;<strong>REGISTRATION IS REQUIRED</strong>&nbsp\; because seating is limited and members of the Chamber will receive first seating preference.&nbsp\; This event is held during the work-week.&nbsp\; &nbsp\;This month\, the event will take place at the&nbsp\;</span><strong style="font-family: arial\, sans-serif\; font-size: 14px\;">Urbandale Chamber of Commerce\, 2830 100th St.\, Ste. 110\, Urbandale.</strong><br />\n<br />\n<span style="font-size: 14px\;">&#8203\;Officials attending include: Mayor Robert Andeweg\, Senator Brad Zaun\, Representative John Forbes\, Polk County Supervisor Bob Brownell and School Board President Katherine Howsare.</span></span><br />\n<br />\n<span style="font-family: arial\, sans-serif\; font-size: 14px\;">Invited: Representative Chris Hagenow and Senator Jake Chapman</span><br />\n<br />\n<span style="font-family:verdana\;"><strong style="font-family: arial\, sans-serif\; font-size: 14px\;">Thank you to Presenting Sponsor\, Jon Smith\, Iowa Realty&nbsp\;</strong></span><br />\nEvent sponsors: McGough Construction &amp\; Midland Credit Union
LOCATION:Urbandale Chamber of Commerce 2830 100th St.\, Ste. 110
UID:e.1185.10528
SEQUENCE:3
DTSTAMP:20260423T160917Z
URL:http://getaquote-mobile.uniquelyurbandale.com/events/details/talk-with-officials-presented-by-jon-smith-iowa-realty-10528
END:VEVENT

END:VCALENDAR
