BEGIN:VCALENDAR
VERSION:2.0
PRODID:-//ChamberMaster//Event Calendar 2.0//EN
METHOD:PUBLISH
X-PUBLISHED-TTL:P3D
REFRESH-INTERVAL:P3D
CALSCALE:GREGORIAN
BEGIN:VEVENT
DTSTART:20150425T153000Z
DTEND:20150425T170000Z
X-MICROSOFT-CDO-ALLDAYEVENT:FALSE
SUMMARY:Talk with Officials\, Presented by Iowa Realty - Jon Smith
DESCRIPTION:Connect with your elected officials during these Saturday morning coffee events held monthly throughout the Legislative Session.  Talk with your elected officials at all levels including the Senate\, House\, County\, City and Urbandale Schools!\n\n\n\nThese events are open to the public and free to attend.  They are held from 10:30 a.m.-Noon at the Urbandale Chamber Office located at 2830 100th Street Ste. 110. in the RODAN Board Room. No RSVP is needed for this event.\n\n\n\nThank you to this month's sponsor: CenturyLink and Urbandale Republicans\n\n\n\nThis month will conclude our Talk with Officials series for 2015.
X-ALT-DESC;FMTTYPE=text/html:<span style="line-height: 20.7999992370605px\; font-family: arial\;">Connect with your elected officials during these Saturday morning coffee events held monthly throughout the Legislative Session.&nbsp\; Talk with your elected officials at all levels including the Senate\, House\, County\, City and&nbsp\;Urbandale&nbsp\;Schools!<br />\n<br />\nThese events are open to the public and free to attend.&nbsp\; They are held from 10:30 a.m.-Noon at the&nbsp\;Urbandale&nbsp\;Chamber Office located at 2830&nbsp\;100th&nbsp\;Street&nbsp\;Ste. 110. in the&nbsp\;RODAN&nbsp\;Board Room. No RSVP is needed for this event.<br />\n<br />\nThank you to this month&#39\;s sponsor: CenturyLink and Urbandale Republicans</span><br />\n<br />\nThis month will conclude our Talk with Officials series for 2015.
LOCATION:Urbandale Chamber RODAN Board Room\, located at 2830 100th Street Ste. 110.
UID:e.1185.4022
SEQUENCE:3
DTSTAMP:20260420T011849Z
URL:http://getaquote-mobile.uniquelyurbandale.com/events/details/talk-with-officials-presented-by-iowa-realty-jon-smith-04-25-2015-4022
END:VEVENT

END:VCALENDAR
