BEGIN:VCALENDAR
VERSION:2.0
PRODID:-//ChamberMaster//Event Calendar 2.0//EN
METHOD:PUBLISH
X-PUBLISHED-TTL:P3D
REFRESH-INTERVAL:P3D
CALSCALE:GREGORIAN
BEGIN:VEVENT
DTSTART:20140329T153000Z
DTEND:20140329T170000Z
X-MICROSOFT-CDO-ALLDAYEVENT:FALSE
SUMMARY:Talk with Officials\, Presented by Iowa Realty - Jon Smith
DESCRIPTION:Connect with your elected officials during these Saturday morning coffee events held monthly throughout the Legislative Session.  Talk with your elected officials at all levels including the Senate\, House\, County\, City and Urbandale Schools!\n\n\n\nThese events are open to the public and free to attend.  They are held from 10:30 a.m.-Noon at the Urbandale Chamber Office located at 2830 100th Street Ste. 110. in the RODAN Board Room. No RSVP is needed for this event.\n\n\n\nThis month's featured topic will be: Budgets\n\nThank you to this month's Sponsor: HR Green and CenturyLink!\n\n\n\n Please mark your calendar for the following upcoming dates for 2014:\n\n\n\nSaturday\, May 3rd from 10:30-12:00 pm
X-ALT-DESC;FMTTYPE=text/html:<span style="font-family: arial\;">Connect with your elected officials during these Saturday morning coffee events held monthly throughout the Legislative Session.&nbsp\; Talk with your elected officials at all levels including the Senate\, House\, County\, City and Urbandale Schools!<br />\n<br />\nThese events are open to the public and free to attend.&nbsp\; They are held from 10:30 a.m.-Noon at the Urbandale Chamber Office located at 2830 100th Street Ste. 110. in the RODAN Board Room. No RSVP is needed for this event.<br />\n<br />\nThis month&#39\;s featured topic will be: Budgets<br />\nThank you to this month&#39\;s Sponsor: HR Green and CenturyLink!<br />\n<br />\n&nbsp\;Please mark your calendar for the following upcoming dates for 2014:</span><br />\n<br />\n<span style="font-family: arial\; font-size: 12px\;">Saturday\, May 3rd</span><span style="font-family: arial\; font-size: 12px\;">&nbsp\;from 10:30-12:00 pm</span><br />\n&nbsp\;
LOCATION:Urbandale Chamber RODAN Board Room\, located at 2830 100th Street Ste. 110.
UID:e.1185.3040
SEQUENCE:3
DTSTAMP:20260419T210658Z
URL:http://getaquote-mobile.uniquelyurbandale.com/events/details/talk-with-officials-presented-by-iowa-realty-jon-smith-03-29-2014-3040
END:VEVENT

END:VCALENDAR
