BEGIN:VCALENDAR
VERSION:2.0
PRODID:-//ChamberMaster//Event Calendar 2.0//EN
METHOD:PUBLISH
X-PUBLISHED-TTL:P3D
REFRESH-INTERVAL:P3D
CALSCALE:GREGORIAN
BEGIN:VEVENT
DTSTART:20150328T153000Z
DTEND:20150328T170000Z
X-MICROSOFT-CDO-ALLDAYEVENT:FALSE
SUMMARY:Talk with Officials\, Presented by Iowa Realty - Jon Smith
DESCRIPTION:Connect with your elected officials during these Saturday morning coffee events held monthly throughout the Legislative Session.  Talk with your elected officials at all levels including the Senate\, House\, County\, City and Urbandale Schools!\n\n\n\nThese events are open to the public and free to attend.  They are held from 10:30 a.m.-Noon at the Urbandale Chamber Office located at 2830 100th Street Ste. 110. in the RODAN Board Room. No RSVP is needed for this event.\n\n\n\nThank you to this month's sponsor: CenturyLink \n\n\n\nPlease mark your calendar for the following upcoming dates for 2015:\n\n\n\nSaturday\, Feb 28nd from 10:30-12:00 pm\n\nSaturday\, March 28th from 10:30-12:00 pm\n\nSaturday\, April 25th from 10:30-12:00 pm
X-ALT-DESC;FMTTYPE=text/html:<span style="line-height: 20.7999992370605px\; font-family: arial\;">Connect with your elected officials during these Saturday morning coffee events held monthly throughout the Legislative Session.&nbsp\; Talk with your elected officials at all levels including the Senate\, House\, County\, City and&nbsp\;Urbandale&nbsp\;Schools!<br />\n<br />\nThese events are open to the public and free to attend.&nbsp\; They are held from 10:30 a.m.-Noon at the&nbsp\;Urbandale&nbsp\;Chamber Office located at 2830&nbsp\;100th&nbsp\;Street&nbsp\;Ste. 110. in the&nbsp\;RODAN&nbsp\;Board Room. No RSVP is needed for this event.<br />\n<br />\nThank you to this month&#39\;s sponsor: CenturyLink&nbsp\;</span><br />\n<br />\n<span style="line-height: 20.7999992370605px\; font-family: arial\;">Please mark your calendar for the following upcoming dates for 2015:<br />\n<br />\nSaturday\, Feb 28nd&nbsp\;from 10:30-12:00 pm<br />\nSaturday\, March&nbsp\;28th&nbsp\;from 10:30-12:00 pm<br />\nSaturday\, April&nbsp\;25th&nbsp\;from 10:30-12:00 pm</span><br style="line-height: 20.7999992370605px\;" />\n&nbsp\;
LOCATION:Urbandale Chamber RODAN Board Room\, located at 2830 100th Street Ste. 110.
UID:e.1185.4021
SEQUENCE:3
DTSTAMP:20260419T234549Z
URL:http://getaquote-mobile.uniquelyurbandale.com/events/details/talk-with-officials-presented-by-iowa-realty-jon-smith-03-28-2015-4021
END:VEVENT

END:VCALENDAR
