BEGIN:VCALENDAR
VERSION:2.0
PRODID:-//ChamberMaster//Event Calendar 2.0//EN
METHOD:PUBLISH
X-PUBLISHED-TTL:P3D
REFRESH-INTERVAL:P3D
CALSCALE:GREGORIAN
BEGIN:VEVENT
DTSTART:20140222T163000Z
DTEND:20140222T180000Z
X-MICROSOFT-CDO-ALLDAYEVENT:FALSE
SUMMARY:Talk with Officials\, Presented by Iowa Realty - Jon Smith
DESCRIPTION:Connect with your elected officials during these Saturday morning coffee events held monthly throughout the Legislative Session.  Talk with your elected officials at all levels including the Senate\, House\, County\, City and Urbandale Schools!\n\n\n\nThese events are open to the public and free to attend.  They are held from 10:30 a.m.-Noon at the Urbandale Chamber Office located at 2830 100th Street Ste. 110. in the RODAN Board Room. No RSVP is needed for this event.\n\n\n\nThank you to our sponsors this month: CenturyLink and Urbandale Republicans!\n\n\n\nThis month's featured topic will be:\n\n\n\nSaturday\, March 29th from 10:30-12:00 pm\n\nSaturday\, April 26th from 10:30-12:00 pm
X-ALT-DESC;FMTTYPE=text/html:<span style="font-family: arial\;">Connect with your elected officials during these Saturday morning coffee events held monthly throughout the Legislative Session.&nbsp\; Talk with your elected officials at all levels including the Senate\, House\, County\, City and Urbandale Schools!<br />\n<br />\nThese events are open to the public and free to attend.&nbsp\; They are held from 10:30 a.m.-Noon at the Urbandale Chamber Office located at 2830 100th Street Ste. 110. in the RODAN Board Room. No RSVP is needed for this event.<br />\n<br />\nThank you to our sponsors this month: CenturyLink and Urbandale Republicans!<br />\n<br />\nThis month&#39\;s featured topic will be:<br />\n<br />\nSaturday\, March 29th from 10:30-12:00 pm<br />\nSaturday\, April 26th from 10:30-12:00 pm</span><br />\n<br />\n
LOCATION:Urbandale Chamber RODAN Board Room\, located at 2830 100th Street Ste. 110.
UID:e.1185.3039
SEQUENCE:3
DTSTAMP:20260419T210657Z
URL:http://getaquote-mobile.uniquelyurbandale.com/events/details/talk-with-officials-presented-by-iowa-realty-jon-smith-02-22-2014-3039
END:VEVENT

END:VCALENDAR
