BEGIN:VCALENDAR
VERSION:2.0
PRODID:-//ChamberMaster//Event Calendar 2.0//EN
METHOD:PUBLISH
X-PUBLISHED-TTL:P3D
REFRESH-INTERVAL:P3D
CALSCALE:GREGORIAN
BEGIN:VEVENT
DTSTART:20170718T223000Z
DTEND:20170718T233000Z
X-MICROSOFT-CDO-ALLDAYEVENT:FALSE
SUMMARY:Summer Tipsy Desserts
DESCRIPTION:Join us for an evening of tipsy desserts inspired by summer and warm weather. Our Renovo Chefs will be hosting a tasting demonstration of desserts made with spirits. Alcohol-free versions will also be available!
X-ALT-DESC;FMTTYPE=text/html:Join us for an evening of tipsy desserts inspired by summer and warm weather. Our Renovo Chefs will be hosting a tasting demonstration of desserts made with spirits. Alcohol-free versions will also be available!
LOCATION:Hotel Renovo 11167 Hickman Rd
UID:e.1185.6590
SEQUENCE:3
DTSTAMP:20260421T145255Z
URL:http://getaquote-mobile.uniquelyurbandale.com/events/details/summer-tipsy-desserts-6590
END:VEVENT

END:VCALENDAR
