BEGIN:VCALENDAR
VERSION:2.0
PRODID:-//ChamberMaster//Event Calendar 2.0//EN
METHOD:PUBLISH
X-PUBLISHED-TTL:P3D
REFRESH-INTERVAL:P3D
CALSCALE:GREGORIAN
BEGIN:VEVENT
DTSTART:20170711T223000Z
DTEND:20170712T003000Z
X-MICROSOFT-CDO-ALLDAYEVENT:FALSE
SUMMARY:Summer in the City Pop-up!
DESCRIPTION:Summer in the City Summer is here   time to Refresh\, Relax & Renew at Renovo! Renew with a complimentary fitness session with personal trainer and coach Alyssa Ames in our event space\, then Refresh and Relax with a quick massage and enjoy and evening of shopping\, food and fun with our vendor pop-up shop in the lobby!
X-ALT-DESC;FMTTYPE=text/html:Summer in the City Summer is here &ndash\; time to Refresh\, Relax &amp\; Renew at Renovo! Renew with a complimentary fitness session with personal trainer and coach Alyssa Ames in our event space\, then Refresh and Relax with a quick massage and enjoy and evening of shopping\, food and fun with our vendor pop-up shop in the lobby!
LOCATION:Hotel Renovo 11167 Hickman Rd
UID:e.1185.6589
SEQUENCE:3
DTSTAMP:20260421T150328Z
URL:http://getaquote-mobile.uniquelyurbandale.com/events/details/summer-in-the-city-pop-up-6589
END:VEVENT

END:VCALENDAR
