BEGIN:VCALENDAR
VERSION:2.0
PRODID:-//ChamberMaster//Event Calendar 2.0//EN
METHOD:PUBLISH
X-PUBLISHED-TTL:P3D
REFRESH-INTERVAL:P3D
CALSCALE:GREGORIAN
BEGIN:VEVENT
DTSTART;VALUE=DATE:20170613
DTEND;VALUE=DATE:20170614
TRANSP:TRANSPARENT
X-MICROSOFT-CDO-ALLDAYEVENT:TRUE
SUMMARY:Summer Block Party - Walnut Lake
DESCRIPTION:Anyone everyone invited
X-ALT-DESC;FMTTYPE=text/html:Anyone everyone invited
LOCATION:
UID:e.1185.6582
SEQUENCE:3
DTSTAMP:20260421T132304Z
URL:http://getaquote-mobile.uniquelyurbandale.com/events/details/summer-block-party-walnut-lake-6582
END:VEVENT

END:VCALENDAR
