BEGIN:VCALENDAR
VERSION:2.0
PRODID:-//ChamberMaster//Event Calendar 2.0//EN
METHOD:PUBLISH
X-PUBLISHED-TTL:P3D
REFRESH-INTERVAL:P3D
CALSCALE:GREGORIAN
BEGIN:VEVENT
DTSTART:20170325T130000Z
DTEND:20170325T160000Z
X-MICROSOFT-CDO-ALLDAYEVENT:FALSE
SUMMARY:MS Moments "Stomp out MS" 5K & Kids 1 Mile Fun Run
DESCRIPTION:All proceeds to benefit MS Moments and Central Iowa families living with MS. Please register at our website: msmomentsiowa.org. Packet pick up will be at Doc's Lounge Friday March 24th from 4:30-7:00 pm (8805 Chambered Blvd\, Johnston).
X-ALT-DESC;FMTTYPE=text/html:All proceeds to benefit MS Moments and Central Iowa families living with MS. Please register at our website: msmomentsiowa.org. Packet pick up will be at Doc&#39\;s Lounge Friday March 24th from 4:30-7:00 pm (8805 Chambered Blvd\, Johnston).
LOCATION:Walker Johnston Park- 9000 Douglas Avenue\, Urbandale
UID:e.1185.5144
SEQUENCE:3
DTSTAMP:20260421T091849Z
URL:http://getaquote-mobile.uniquelyurbandale.com/events/details/stomp-out-ms-5k-kids-1-mile-fun-run-5144
END:VEVENT

END:VCALENDAR
