BEGIN:VCALENDAR
VERSION:2.0
PRODID:-//ChamberMaster//Event Calendar 2.0//EN
METHOD:PUBLISH
X-PUBLISHED-TTL:P3D
REFRESH-INTERVAL:P3D
CALSCALE:GREGORIAN
BEGIN:VEVENT
DTSTART:20160522T190000Z
DTEND:20160522T220000Z
X-MICROSOFT-CDO-ALLDAYEVENT:FALSE
SUMMARY:Stamazing Race
DESCRIPTION:There's chocolate at the finish line! Don't miss out on the "sweetest" chip-timed 5k run of the year! All proceeds benefit the John Stoddard Oncology Nurse Navigator program.
X-ALT-DESC;FMTTYPE=text/html:There&#39\;s chocolate at the finish line! Don&#39\;t miss out on the &quot\;sweetest&quot\; chip-timed 5k run of the year! All proceeds benefit the John Stoddard Oncology Nurse Navigator program.
LOCATION:Water Works Park 2201 George Flagg Pkwy\, Des Moines\, IA 50321
UID:e.1185.4791
SEQUENCE:3
DTSTAMP:20260420T183157Z
URL:http://getaquote-mobile.uniquelyurbandale.com/events/details/stamazing-race-05-22-2016-4791
END:VEVENT

END:VCALENDAR
