BEGIN:VCALENDAR
VERSION:2.0
PRODID:-//ChamberMaster//Event Calendar 2.0//EN
METHOD:PUBLISH
X-PUBLISHED-TTL:P3D
REFRESH-INTERVAL:P3D
CALSCALE:GREGORIAN
BEGIN:VEVENT
DTSTART;VALUE=DATE:20141003
DTEND;VALUE=DATE:20141004
TRANSP:TRANSPARENT
X-MICROSOFT-CDO-ALLDAYEVENT:TRUE
SUMMARY:Staff Retreat (office closed)
DESCRIPTION:
X-ALT-DESC;FMTTYPE=text/html:
LOCATION:
UID:e.1185.3855
SEQUENCE:3
DTSTAMP:20260419T152758Z
URL:http://getaquote-mobile.uniquelyurbandale.com/events/details/staff-retreat-office-closed-10-03-2014-3855
END:VEVENT

END:VCALENDAR
