BEGIN:VCALENDAR
VERSION:2.0
PRODID:-//ChamberMaster//Event Calendar 2.0//EN
METHOD:PUBLISH
X-PUBLISHED-TTL:P3D
REFRESH-INTERVAL:P3D
CALSCALE:GREGORIAN
BEGIN:VEVENT
DTSTART;VALUE=DATE:20170420
DTEND;VALUE=DATE:20170423
TRANSP:TRANSPARENT
X-MICROSOFT-CDO-ALLDAYEVENT:TRUE
SUMMARY:Spring Bazaar at La' James International College Des Moines
DESCRIPTION:Help us make a Difference! Throughout the month of April & May La' James International College Des Moines will be hosting fun & exciting events in honor of LJIC Massage Therapy Graduate\, Sara Preston who is fighting Hodgkin's Lymphoma. All proceeds from each event will go towards Sara & her 3 beautiful little girls. \n\n\n\nOn April 20th - 22nd stop by the campus to check out our handmade items for sale! We'll be making personalized headbands\, hair pieces\, jewelry & more! Again\, all proceeds will be given to Sara Preston. If you can't make it in\, please consider donating online at https://www.gofundme.com/fight-hodgkins-lymphoma
X-ALT-DESC;FMTTYPE=text/html:<span style="color:rgb(75\, 79\, 86)\; font-family:helvetica neue\,helvetica\,arial\,sans-serif\; font-size:14.40000057220459px">Help us make a Difference! Throughout the month of April &amp\; May&nbsp\;</span><a href="https://www.facebook.com/LaJamesInternationalCollegeDesMoines/" style="color: rgb(54\, 88\, 153)\; cursor: pointer\; text-decoration: none\; font-family: 'Helvetica Neue'\, Helvetica\, Arial\, sans-serif\; font-size: 14.40000057220459px\;">La&#39\; James International College Des Moines</a><span style="color:rgb(75\, 79\, 86)\; font-family:helvetica neue\,helvetica\,arial\,sans-serif\; font-size:14.40000057220459px">&nbsp\;will be hosting fun &amp\; exciting events in honor of LJIC Massage Therapy Graduate\, Sara Preston who is fighting Hodgkin&#39\;s Lymphoma. All proceeds from each event will go towards Sara &amp\; her 3 beautiful little girls.&nbsp\;</span><br />\n<br />\n<span style="color:rgb(75\, 79\, 86)\; font-family:helvetica neue\,helvetica\,arial\,sans-serif\; font-size:14.40000057220459px">On April 20th - 22nd stop by the campus to check out our handmade items for sale! We&#39\;ll be making personalized headbands\, hair pieces\, jewelry &amp\; more! Again\, all proceeds will be given to Sara Preston. If you can&#39\;t make it in\, please consider donating online at&nbsp\;</span><a href="https://l.facebook.com/l.php?u=https%3A%2F%2Fwww.gofundme.com%2Ffight-hodgkins-lymphoma&amp\;h=ATOYGqrbJuMnzNotOatmSZnJ1N4Zow0g3xw8DvgRmi6HRBUJZmYhEAcmHHzHFZbCAI90GoJiXyrWxK2jmtg91X9JIH1ENORlXTQuNe3CA3SZu8ur6i_0k0b4CUcdekx_JDy0s-D_pxA&amp\;enc=AZNgWrN1A9a_VZYi602un4liCbuO7v9hQ_HMrbm14SxXMTluARD8aXTlps8dcSXXpPw&amp\;s=1" rel="nofollow nofollow" style="color: rgb(54\, 88\, 153)\; cursor: pointer\; text-decoration: none\; font-family: 'Helvetica Neue'\, Helvetica\, Arial\, sans-serif\; font-size: 14.40000057220459px\;" target="_blank"><span style="font-family:inherit">https://www.gofundme.com/</span>fight-hodgkins-lymphoma</a>
LOCATION:La' James International College 8805 Chambery Blvd. Johnston\, IA
UID:e.1185.5170
SEQUENCE:3
DTSTAMP:20260421T103718Z
URL:http://getaquote-mobile.uniquelyurbandale.com/events/details/spring-bazaar-at-la-james-international-college-des-moines-5170
END:VEVENT

END:VCALENDAR
