BEGIN:VCALENDAR
VERSION:2.0
PRODID:-//ChamberMaster//Event Calendar 2.0//EN
METHOD:PUBLISH
X-PUBLISHED-TTL:P3D
REFRESH-INTERVAL:P3D
CALSCALE:GREGORIAN
BEGIN:VEVENT
DTSTART:20170512T223000Z
DTEND:20170513T003000Z
X-MICROSOFT-CDO-ALLDAYEVENT:FALSE
SUMMARY:Spaghetti Dinner & Silent Auction at La' James International College Des Moines
DESCRIPTION:Help us make a Difference! Throughout the month of April\, La' James International College Des Moines has hosted fun & exciting events leading up to tonight's Spaghetti Dinner & Silent Auction in honor of LJIC Massage Therapy Graduate\, Sara Preston who is fighting Hodgkin's Lymphoma. All proceeds from each event will go towards Sara & her 3 beautiful little girls.  \n\n\n\nWe invite you to join us for this beautiful evening on Friday\, May 12th\, 5:30 - 7:30pm. $10 for Adults & $5 for children. Enjoy a Spaghetti Dinner along with entertainment from Vocal Band\, Time Well Wasted & view items from our Silent Auction. \n\n\n\nTickets can be purchased at La' James International College Des Moines. We will also be selling these during each event in April. Buy your ticket today! If you can't make it in\, please consider donating online at https://www.gofundme.com/fight-hodgkins-lymphoma
X-ALT-DESC;FMTTYPE=text/html:<span style="color:rgb(75\, 79\, 86)\; font-family:helvetica neue\,helvetica\,arial\,sans-serif\; font-size:14.40000057220459px">Help us make a Difference! Throughout the month of April\,&nbsp\;</span><a href="https://www.facebook.com/LaJamesInternationalCollegeDesMoines/" style="color: rgb(54\, 88\, 153)\; cursor: pointer\; text-decoration: none\; font-family: 'Helvetica Neue'\, Helvetica\, Arial\, sans-serif\; font-size: 14.40000057220459px\;">La&#39\; James International College Des Moines</a><span style="color:rgb(75\, 79\, 86)\; font-family:helvetica neue\,helvetica\,arial\,sans-serif\; font-size:14.40000057220459px">&nbsp\;has hosted fun &amp\; exciting events leading up to tonight&#39\;s Spaghetti Dinner &amp\; Silent Auction in honor of LJIC Massage Therapy Graduate\, Sara Preston who is fighting Hodgkin&#39\;s Lymphoma. All proceeds from each event will go towards Sara &amp\; her 3 beautiful little girls.&nbsp\;&nbsp\;</span><br />\n<br />\n<span style="color:rgb(75\, 79\, 86)\; font-family:helvetica neue\,helvetica\,arial\,sans-serif\; font-size:14.40000057220459px">We invite you to join us for this beautiful evening on Friday\, May 12th\, 5:30 - 7:30pm. $10 for Adults &amp\; $5 for children. Enjoy a Spaghetti Dinner along with entertainment from Vocal Band\, Time Well Wasted &amp\; view items from our Silent Auction.&nbsp\;</span><br />\n<br />\n<span style="color:rgb(75\, 79\, 86)\; font-family:helvetica neue\,helvetica\,arial\,sans-serif\; font-size:14.40000057220459px">Tickets can be purchased at La&#39\; James International College Des Moines. We will also be selling these during each event in April. Buy your ticket today! If you can&#39\;t make it in\, please consider donating online at&nbsp\;</span><a href="https://www.gofundme.com/fight-hodgkins-lymphoma" rel="nofollow nofollow" style="color: rgb(54\, 88\, 153)\; cursor: pointer\; text-decoration: none\; font-family: 'Helvetica Neue'\, Helvetica\, Arial\, sans-serif\; font-size: 14.40000057220459px\;" target="_blank"><span style="font-family:inherit">https://www.gofundme.com/</span>fight-hodgkins-lymphoma</a>
LOCATION:La' James International College 8805 Chambery Blvd. Johnston\, IA
UID:e.1185.5172
SEQUENCE:3
DTSTAMP:20260421T120521Z
URL:http://getaquote-mobile.uniquelyurbandale.com/events/details/spaghetti-dinner-silent-auction-at-la-james-international-college-des-moines-5172
END:VEVENT

END:VCALENDAR
