BEGIN:VCALENDAR
VERSION:2.0
PRODID:-//ChamberMaster//Event Calendar 2.0//EN
METHOD:PUBLISH
X-PUBLISHED-TTL:P3D
REFRESH-INTERVAL:P3D
CALSCALE:GREGORIAN
BEGIN:VEVENT
DTSTART:20181129T233000Z
DTEND:20181130T010000Z
X-MICROSOFT-CDO-ALLDAYEVENT:FALSE
SUMMARY:Snap Judgments: Photo Exhibition and Artists' Reception
DESCRIPTION:What do you think when you look at a photo? Even if the picture was taken by someone you know\, you might end up making assumptions that simply are not accurate. What happens when you learn something that forces you to reconsider your "snap judgment"?\n\n\n\nOver the past 10 years\, more than 1\,000 Des Moines area middle and high school students from 15 schools have participated in CultureALL's photo ethnography program: Zoom in on Culture. The program is is incorporated into the Sociology curriculum of the Des Moines Public Schools. \n\n\n\nThis semester\, students from five different classrooms at Hoover\, Lincoln\, and Roosevelt High Schools have been exploring concepts of culture\, sub-culture\, and identity with the help of CultureALL Ambassadors Mamta Israni and Phoebe Liang D'Alessandro. With the guidance of professional photographer Ryan Morrison they have been taking photos that help define their personal culture. Their best photos   along with short essays that put the photo in context for the viewer   will be on display in a public exhibition that tours the community.\n\n\n\nThis year's exhibition will open with a special Artists' Reception at the Iowa Hall of Pride.Students from all three schools will have a chance to view each other's photos and show their own photos off to their friends and family. A special presentation will feature students who have volunteered to share what they have discovered by participating in the project. The program will be hosted by community leader Ako Abdul-Samad.\n\n\n\nCome see the exhibition\, meet some of the students\, find out what they have learned \, and help them celebrate their accomplishments. There is no cost to attend\, but donations to CultureALL are always welcome. Doors open at 5:30- pm\; the presentation begins at 6.\n\n\n\nThe Snap Judgments Zoom in on Culture exhibition will remain on display at the Iowa Hall of Pride through December 14. It will tour to other locations in the community next year.
X-ALT-DESC;FMTTYPE=text/html:<span style="color:rgb(29\, 33\, 41)\; font-family:system-ui\,-apple-system\,system-ui\,.sfnstext-regular\,sans-serif\; font-size:14px">What do you think when you look at a photo? Even if the picture was taken by someone you know\, you might end up making assumptions that simply are not accurate. What happens when you learn something that forces you to reconsider your &ldquo\;snap judgment&rdquo\;?</span><br />\n<br />\n<span style="color:rgb(29\, 33\, 41)\; font-family:system-ui\,-apple-system\,system-ui\,.sfnstext-regular\,sans-serif\; font-size:14px">Over the past 10 years\, more than 1\,000 Des Moines area middle and high school students from 15 schools have participated in CultureALL&rsquo\;s photo ethnography program: Zoom in on Culture. The program is is incorporated into the Sociology curriculum of the Des Moines Public Schools.&nbsp\;</span><br />\n<br />\n<span style="color:rgb(29\, 33\, 41)\; font-family:system-ui\,-apple-system\,system-ui\,.sfnstext-regular\,sans-serif\; font-size:14px">This semester\, students from five different classrooms at Hoover\, Lincoln\, and Roosevelt High Schools have been exploring concepts of culture\, sub-culture\, and identity with the help of CultureALL Ambassadors Mamta Israni and Phoebe Liang D&rsquo\;Alessandro. With the guidance of professional photographer Ryan Morrison they have been taking photos that help define their personal culture. Their best photos &ndash\; along with short essays that put the photo in context for the viewer &ndash\; will be on display in a public exhibition that tours the community.</span><br />\n<br />\n<span style="color:rgb(29\, 33\, 41)\; font-family:system-ui\,-apple-system\,system-ui\,.sfnstext-regular\,sans-serif\; font-size:14px">This year&rsquo\;s exhibition will open with a special Artists&rsquo\; Reception at the Iowa Hall of Pride.Students from all three schools will have a chance to view each other&rsquo\;s photos and show their own photos off to their friends and family. A special presentation will feature students who have volunteered to share what they have discovered by participating in the project. The program will be hosted by community leader Ako Abdul-Samad.</span><br />\n<br />\n<span style="color:rgb(29\, 33\, 41)\; font-family:system-ui\,-apple-system\,system-ui\,.sfnstext-regular\,sans-serif\; font-size:14px">Come see the exhibition\, meet some of the students\, find out what they have learned \, and help them celebrate their accomplishments. There is no cost to attend\, but donations to CultureALL are always welcome. Doors open at 5:30- pm\; the presentation begins at 6.</span><br />\n<br />\n<span style="color:rgb(29\, 33\, 41)\; font-family:system-ui\,-apple-system\,system-ui\,.sfnstext-regular\,sans-serif\; font-size:14px">The Snap Judgments Zoom in on Culture exhibition will remain on display at the Iowa Hall of Pride through December 14. It will tour to other locations in the community next year.</span>
LOCATION:Iowa Hall of Pride 330 Park Street DEs MOines\, IA 50309
UID:e.1185.8731
SEQUENCE:3
DTSTAMP:20260422T142708Z
URL:http://getaquote-mobile.uniquelyurbandale.com/events/details/snap-judgments-photo-exhibition-and-artists-reception-8731
END:VEVENT

END:VCALENDAR
