BEGIN:VCALENDAR
VERSION:2.0
PRODID:-//ChamberMaster//Event Calendar 2.0//EN
METHOD:PUBLISH
X-PUBLISHED-TTL:P3D
REFRESH-INTERVAL:P3D
CALSCALE:GREGORIAN
BEGIN:VEVENT
DTSTART:20160514T140000Z
DTEND:20160514T150000Z
X-MICROSOFT-CDO-ALLDAYEVENT:FALSE
SUMMARY:Smart Way to Prepare for Summer Travel
DESCRIPTION:With summer quickly approaching\, it means warmer weather\, more outdoor activities and travel with family and friends. U.S. Cellular associates want to help you prepare for fun under the sun or a road trip with a free Device Workshop in Urbandale. Attendees will learn how to utilize their device\, such as the iPhone 6s or Samsung Galaxy S7\, to prepare for a family vacation\, reunion or adventure with friends. You don?t have to be a U.S. Cellular customer to attend. Our associates are available to show you how your smartphone or tablet can simplify and enhance your summer plans\, said Mike Adams\, U.S. Cellular's director of sales in Iowa and Nebraska. The right devices and our nationwide network will help you stay connected no matter where you are. You may call 515-249-8800 for more information or to RSVP.
X-ALT-DESC;FMTTYPE=text/html:With summer quickly approaching\, it means warmer weather\, more outdoor activities and travel with family and friends. U.S. Cellular associates want to help you prepare for fun under the sun or a road trip with a free Device Workshop in Urbandale. Attendees will learn how to utilize their device\, such as the iPhone 6s or Samsung Galaxy S7\, to prepare for a family vacation\, reunion or adventure with friends. You don?t have to be a U.S. Cellular customer to attend. Our associates are available to show you how your smartphone or tablet can simplify and enhance your summer plans\, said Mike Adams\, U.S. Cellular&#39\;s director of sales in Iowa and Nebraska. The right devices and our nationwide network will help you stay connected no matter where you are. You may call 515-249-8800 for more information or to RSVP.
LOCATION:U.S. Cellular 8475 Hickman Road Urbandale\, IA 50322
UID:e.1185.4799
SEQUENCE:3
DTSTAMP:20260420T195825Z
URL:http://getaquote-mobile.uniquelyurbandale.com/events/details/smart-way-to-prepare-for-summer-travel-05-14-2016-4799
END:VEVENT

END:VCALENDAR
