BEGIN:VCALENDAR
VERSION:2.0
PRODID:-//ChamberMaster//Event Calendar 2.0//EN
METHOD:PUBLISH
X-PUBLISHED-TTL:P3D
REFRESH-INTERVAL:P3D
CALSCALE:GREGORIAN
BEGIN:VEVENT
DTSTART:20170506T140000Z
DTEND:20170506T170000Z
X-MICROSOFT-CDO-ALLDAYEVENT:FALSE
SUMMARY:Single Moms' Morning Out
DESCRIPTION:This morning will be designed to honor the single moms in our church and community by treating them to a morning of worship\, prayer\, massages\, hair cuts\, a clothing boutique and basic car care\, while their children participate in fun\, Bible-centered activities.
X-ALT-DESC;FMTTYPE=text/html:This morning will be designed to honor the single moms in our church and community by treating them to a morning of worship\, prayer\, massages\, hair cuts\, a clothing boutique and basic car care\, while their children participate in fun\, Bible-centered activities.
LOCATION:Gloria Dei Lutheran Church 8301 Aurora Ave.\, Urbandale\, Iowa www.gdlc.church Prairie Ridge Church 825 NW 36th Street\, Ankeny\, Iowa www.ridgelife.org Crossroads Church 2601 Border St.\, Norwalk\, Iowa 2thecrossroads.com
UID:e.1185.5162
SEQUENCE:3
DTSTAMP:20260421T120053Z
URL:http://getaquote-mobile.uniquelyurbandale.com/events/details/single-moms-morning-out-5162
END:VEVENT

END:VCALENDAR
