BEGIN:VCALENDAR
VERSION:2.0
PRODID:-//ChamberMaster//Event Calendar 2.0//EN
METHOD:PUBLISH
X-PUBLISHED-TTL:P3D
REFRESH-INTERVAL:P3D
CALSCALE:GREGORIAN
BEGIN:VEVENT
DTSTART:20190620T160000Z
DTEND:20190620T200000Z
X-MICROSOFT-CDO-ALLDAYEVENT:FALSE
SUMMARY:Showplace Garage Sale
DESCRIPTION:Showplace Cabinetry-Urbandale will be holding a sale of Retired Displays\, Scratch and Dent Items miscellaneous inserts and accessories.
X-ALT-DESC;FMTTYPE=text/html:Showplace Cabinetry-Urbandale will be holding a sale of Retired Displays\, Scratch and Dent Items miscellaneous inserts and accessories.
LOCATION:Rear of 2900 Justin Drive
UID:e.1185.9993
SEQUENCE:3
DTSTAMP:20260423T025313Z
URL:http://getaquote-mobile.uniquelyurbandale.com/events/details/showplace-garage-sale-9993
END:VEVENT

END:VCALENDAR
