BEGIN:VCALENDAR
VERSION:2.0
PRODID:-//ChamberMaster//Event Calendar 2.0//EN
METHOD:PUBLISH
X-PUBLISHED-TTL:P3D
REFRESH-INTERVAL:P3D
CALSCALE:GREGORIAN
BEGIN:VEVENT
DTSTART:20160911T170000Z
DTEND:20160911T220000Z
X-MICROSOFT-CDO-ALLDAYEVENT:FALSE
SUMMARY:September 11\, 2016 Iowa Wine Tour
DESCRIPTION:Enjoy a Sunday afternoon (September 11th\, 2016 to be exact) visiting three picturesque Central Iowa vineyards and wineries! Enjoy wine tasting\, education\, vineyard tours and on-site shopping. Wineries on this tour include Jasper Winery\, Annelise Winery and La Vida Loca Winery. Price per person of $55 includes ticketing fees\, round-trip transportation\, bottled water and snacks on-board the bus. Must be 21 years or older to participate.
X-ALT-DESC;FMTTYPE=text/html:Enjoy a Sunday afternoon (September 11th\, 2016 to be exact) visiting three picturesque Central Iowa vineyards and wineries! Enjoy wine tasting\, education\, vineyard tours and on-site shopping. Wineries on this tour include Jasper Winery\, Annelise Winery and La Vida Loca Winery. Price per person of $55 includes ticketing fees\, round-trip transportation\, bottled water and snacks on-board the bus. Must be 21 years or older to participate.
LOCATION:Jasper Winery
UID:e.1185.4881
SEQUENCE:3
DTSTAMP:20260421T003602Z
URL:http://getaquote-mobile.uniquelyurbandale.com/events/details/september-11-2016-iowa-wine-tour-09-11-2016-4881
END:VEVENT

END:VCALENDAR
