BEGIN:VCALENDAR
VERSION:2.0
PRODID:-//ChamberMaster//Event Calendar 2.0//EN
METHOD:PUBLISH
X-PUBLISHED-TTL:P3D
REFRESH-INTERVAL:P3D
CALSCALE:GREGORIAN
BEGIN:VEVENT
DTSTART:20151120T213000Z
DTEND:20151120T223000Z
X-MICROSOFT-CDO-ALLDAYEVENT:FALSE
SUMMARY:Senior Services Round Table\, Presented by Re/Max Real Estate Group - Marva McCarty
DESCRIPTION:Businesses involved in providing services to senior citizens are encouraged to attend to connect with others in the same industry.  During the one-hour event\, you will be able to connect with others in this industry to learn from each other about issues impacting the senior services industry.\n\n\n\nSpeaker is TBD\n\n\n\nA special thank you to Marva McCarty\, RE/MAX Real Estate Group for sponsoring the Senior Services Roundtable in 2015!
X-ALT-DESC;FMTTYPE=text/html:<span style="line-height: 20.7999992370605px\;">Businesses involved in providing services to senior citizens are encouraged to attend to connect with others in the same industry. &nbsp\;During the one-hour event\, you will be able to connect with others in this industry to learn from each other about issues impacting the senior services industry.<br />\n<br />\nSpeaker is TBD<br />\n<br />\nA special thank you to <a href="http://www.marva.mccarty.remaxagent.com/">Marva McCarty\, RE/MAX Real Estate Group</a> for sponsoring the Senior Services Roundtable in 2015!</span>
LOCATION:RODAN Board Room Urbandale Chamber of Commerce 2830 100th St.\, Ste. 110\, Urbandale\, IA 50322
UID:e.1185.4158
SEQUENCE:3
DTSTAMP:20260420T100812Z
URL:http://getaquote-mobile.uniquelyurbandale.com/events/details/senior-services-round-table-presented-by-re-max-real-estate-group-marva-mccarty-11-20-2015-4158
END:VEVENT

END:VCALENDAR
