BEGIN:VCALENDAR
VERSION:2.0
PRODID:-//ChamberMaster//Event Calendar 2.0//EN
METHOD:PUBLISH
X-PUBLISHED-TTL:P3D
REFRESH-INTERVAL:P3D
CALSCALE:GREGORIAN
BEGIN:VEVENT
DTSTART:20150828T203000Z
DTEND:20150828T213000Z
X-MICROSOFT-CDO-ALLDAYEVENT:FALSE
SUMMARY:Senior Services Round Table\, Presented by Re/Max Real Estate Group - Marva McCarty
DESCRIPTION:Businesses involved in providing services to senior citizens are encouraged to attend to connect with others in the same industry.  During the one-hour event\, you will be able to connect with others in this industry to learn from each other about issues impacting the senior services industry.\n\n\n\nSpeaker Craig Immerfall with Iowa Workforce Development to discuss different options for hiring and services available through their office.\n\n\n\nA sincere thank you to Marva McCarty\, RE/MAX Real Estate Group for sponsoring the Senior Services Round Table in 2015!
X-ALT-DESC;FMTTYPE=text/html:<span style="font-family:arial\;"><span style="font-size:12px\;"><span style="line-height: 20.7999992370605px\;">Businesses involved in providing services to senior citizens are encouraged to attend to connect with others in the same industry. &nbsp\;During the one-hour event\, you will be able to connect with others in this industry to learn from each other about issues impacting the senior services industry.<br />\n<br />\nSpeaker Craig Immerfall with Iowa Workforce Development to discuss different options for hiring and services available through their office.</span><br />\n<br />\n<span style="color: rgb(68\, 68\, 68)\; line-height: 20.7999992370605px\;">A sincere thank you to <a href="http://www.marva.mccarty.remaxagent.com/">Marva McCarty\, RE/MAX Real Estate Group</a> for sponsoring the Senior Services Round Table in 2015! &nbsp\;</span></span></span><br />\n&nbsp\;
LOCATION:RODAN Board Room Urbandale Chamber of Commerce 2830 100th St.\, Ste. 110\, Urbandale\, IA 50322
UID:e.1185.4157
SEQUENCE:3
DTSTAMP:20260420T070024Z
URL:http://getaquote-mobile.uniquelyurbandale.com/events/details/senior-services-round-table-presented-by-re-max-real-estate-group-marva-mccarty-08-28-2015-4157
END:VEVENT

END:VCALENDAR
