BEGIN:VCALENDAR
VERSION:2.0
PRODID:-//ChamberMaster//Event Calendar 2.0//EN
METHOD:PUBLISH
X-PUBLISHED-TTL:P3D
REFRESH-INTERVAL:P3D
CALSCALE:GREGORIAN
BEGIN:VEVENT
DTSTART:20150626T203000Z
DTEND:20150626T213000Z
X-MICROSOFT-CDO-ALLDAYEVENT:FALSE
SUMMARY:Senior Services Round Table\, Presented by Re/Max Real Estate Group - Marva McCarty
DESCRIPTION:Businesses involved in providing services to senior citizens are encouraged to attend to connect with others in the same industry.  During the one-hour event\, you will be able to connect with others in this industry to learn from each other about issues impacting the senior services industry.\n\n\n\nThis month's featured speaker is Kent Sovern\, AARP to talk about new programs available through the AARP.\n\n\n\nA sincere thank you to Marva McCarty\, RE/MAX Real Estate Group for sponsoring the Senior Services Round Table in 2015!
X-ALT-DESC;FMTTYPE=text/html:<span style="line-height: 20.7999992370605px\;">Businesses involved in providing services to senior citizens are encouraged to attend to connect with others in the same industry. &nbsp\;During the one-hour event\, you will be able to connect with others in this industry to learn from each other about issues impacting the senior services industry.<br />\n<br />\n<strong>This month&#39\;s featured speaker is Kent Sovern\, AARP to talk about new programs available through the AARP.</strong></span><br />\n<br />\n<span style="font-family: Arial\; font-size: 12px\; line-height: 20.7999992370605px\;">A sincere thank you to&nbsp\;</span><a href="http://www.marva.mccarty.remaxagent.com/" style="font-family: Arial\; font-size: 12px\; line-height: 20.7999992370605px\;">Marva&nbsp\;McCarty\, RE/MAX Real Estate Group</a><span style="font-family: Arial\; font-size: 12px\; line-height: 20.7999992370605px\;">&nbsp\;for sponsoring the Senior Services Round Table in 2015! &nbsp\;</span>
LOCATION:RODAN Board Room Urbandale Chamber of Commerce 2830 100th St.\, Ste. 110\, Urbandale
UID:e.1185.4156
SEQUENCE:3
DTSTAMP:20260420T024336Z
URL:http://getaquote-mobile.uniquelyurbandale.com/events/details/senior-services-round-table-presented-by-re-max-real-estate-group-marva-mccarty-06-26-2015-4156
END:VEVENT

END:VCALENDAR
