BEGIN:VCALENDAR
VERSION:2.0
PRODID:-//ChamberMaster//Event Calendar 2.0//EN
METHOD:PUBLISH
X-PUBLISHED-TTL:P3D
REFRESH-INTERVAL:P3D
CALSCALE:GREGORIAN
BEGIN:VEVENT
DTSTART:20150327T203000Z
DTEND:20150327T213000Z
X-MICROSOFT-CDO-ALLDAYEVENT:FALSE
SUMMARY:Senior Services Round Table\, Presented by Re/Max Real Estate Group - Marva McCarty
DESCRIPTION:Businesses involved in providing services to senior citizens are encouraged to attend to connect with others in the same industry.  During the one-hour event\, you will be able to connect with others in this industry to learn from each other about issues impacting the senior services industry.\n\n\n\nThis month's featured speaker is Micholyn Fajen with PCG Marketing to discuss marketing tactics for the senior market.  \n\n\n\nA sincere thank you to Marva McCarty\, RE/MAX Real Estate Group for sponsoring the Senior Services Round Table in 2015!
X-ALT-DESC;FMTTYPE=text/html:<span style="line-height: 20.7999992370605px\;">Businesses involved in providing services to senior citizens are encouraged to attend to connect with others in the same industry. &nbsp\;During the one-hour event\, you will be able to connect with others in this industry to learn from each other about issues impacting the senior services industry.<br />\n<br />\nThis month&#39\;s featured speaker is Micholyn Fajen with PCG Marketing to discuss marketing tactics for the senior market. &nbsp\;<br />\n<br />\nA sincere thank you to Marva McCarty\, RE/MAX Real Estate Group for sponsoring the Senior Services Round Table in 2015! &nbsp\;</span>
LOCATION:Urbandale Chamber of Commerce RODAN Board Room 2830 100th St.\, Ste. 110 Urbandale\, IA 50322
UID:e.1185.4154
SEQUENCE:3
DTSTAMP:20260419T222253Z
URL:http://getaquote-mobile.uniquelyurbandale.com/events/details/senior-services-round-table-presented-by-re-max-real-estate-group-marva-mccarty-03-27-2015-4154
END:VEVENT

END:VCALENDAR
