BEGIN:VCALENDAR
VERSION:2.0
PRODID:-//ChamberMaster//Event Calendar 2.0//EN
METHOD:PUBLISH
X-PUBLISHED-TTL:P3D
REFRESH-INTERVAL:P3D
CALSCALE:GREGORIAN
BEGIN:VEVENT
DTSTART:20141014T203000Z
DTEND:20141014T213000Z
X-MICROSOFT-CDO-ALLDAYEVENT:FALSE
SUMMARY:Senior Services Round Table
DESCRIPTION:Businesses involved in providing services to senior citizens are encouraged to attend to connect with others in the same industry.  During the one-hour event\, you will be able to connect with others in this industry to learn from each other about issues impacting the senior services industry.\n\n\n\nThis month features Jana Belle with Group Benefits to discuss the impact of Health Care Reform on the industry.
X-ALT-DESC;FMTTYPE=text/html:Businesses involved in providing services to senior citizens are encouraged to attend to connect with others in the same industry. &nbsp\;During the one-hour event\, you will be able to connect with others in this industry to learn from each other about issues impacting the senior services industry.<br />\n<br />\nThis month features Jana Belle with Group Benefits to discuss the impact of Health Care Reform on the industry.
LOCATION:LOCATION CHANGE!!!! City Hall 3600 86th Street\, Urbandale
UID:e.1185.3905
SEQUENCE:3
DTSTAMP:20260419T152627Z
URL:http://getaquote-mobile.uniquelyurbandale.com/events/details/senior-services-round-table-10-14-2014-3905
END:VEVENT

END:VCALENDAR
