BEGIN:VCALENDAR
VERSION:2.0
PRODID:-//ChamberMaster//Event Calendar 2.0//EN
METHOD:PUBLISH
X-PUBLISHED-TTL:P3D
REFRESH-INTERVAL:P3D
CALSCALE:GREGORIAN
BEGIN:VEVENT
DTSTART:20140717T203000Z
DTEND:20140717T213000Z
X-MICROSOFT-CDO-ALLDAYEVENT:FALSE
SUMMARY:Senior Services Round Table
DESCRIPTION:Businesses involved in providing services to senior citizens are encouraged to attend to connect with others in the same industry.  During the one-hour event\, you will be able to connect with others in this industry to learn from each other about issues impacting the senior services industry.
X-ALT-DESC;FMTTYPE=text/html:Businesses involved in providing services to senior citizens are encouraged to attend to connect with others in the same industry. &nbsp\;During the one-hour event\, you will be able to connect with others in this industry to learn from each other about issues impacting the senior services industry.
LOCATION:Urbandale Chamber of Commerce RODAN Board Room 2830 100th St.\, Ste. 110 Urbandale\, IA 50322
UID:e.1185.3904
SEQUENCE:3
DTSTAMP:20260419T152627Z
URL:http://getaquote-mobile.uniquelyurbandale.com/events/details/senior-services-round-table-07-17-2014-3904
END:VEVENT

END:VCALENDAR
