BEGIN:VCALENDAR
VERSION:2.0
PRODID:-//ChamberMaster//Event Calendar 2.0//EN
METHOD:PUBLISH
X-PUBLISHED-TTL:P3D
REFRESH-INTERVAL:P3D
CALSCALE:GREGORIAN
BEGIN:VEVENT
DTSTART:20201026T130000Z
DTEND:20201030T220000Z
X-MICROSOFT-CDO-ALLDAYEVENT:FALSE
SUMMARY:Sample Urbandale: Support Our Mission Silent Auction
DESCRIPTION:Help support our mission! The Urbandale Chamber of Commerce is a catalyst organization working to serve\, protect\, promote\, and provide opportunities to businesses in Central Iowa. The Urbandale Chamber is unique in every regard. As the only five-star accredited Chamber in Central Iowa\, we value excellence\, service\, family connectedness\, and character. This year\, we have not had access to the same funding opportunities as other non-profits and businesses because we are a 501c6 trade organization and this category does not allow us access to programs\, such as PPP. Sample Urbandale has always been our largest fundraiser\, but this year it is even more important to fundraise to support our mission. \n\n\n\nThis is where we need your help! Bid on our silent auction items\, VIRTUALLY! We are excited to provide you with the same great packages from our local member businesses in our virtual silent auction on Handbid. \n\n\n\nBID NOW! THE AUCTION IS LIVE!
X-ALT-DESC;FMTTYPE=text/html:<span style="font-size:14px\;"><span style="font-family:arial\;"><a href="https://events.handbid.com/auctions/sample-urbandale-2020-auction"><strong>Help support our mission!</strong></a> The Urbandale Chamber of Commerce is a catalyst organization working to serve\, protect\, promote\, and provide opportunities to businesses in Central Iowa. The Urbandale Chamber is unique in every regard. As the only five-star accredited Chamber in Central Iowa\, we value excellence\, service\, family connectedness\, and character. This year\, we have not had access to the same funding opportunities as other non-profits and businesses because we are a 501c6 trade organization and this category does not allow us access to programs\, such as PPP.&nbsp\;<strong>Sample Urbandale has always been our largest fundraiser\, but this year it is even more important to fundraise to support our mission.</strong>&nbsp\;<br />\n<br />\nThis is where we need your help! Bid on our silent auction items\, VIRTUALLY! We are excited to provide you with the same great packages from our local member businesses in our virtual silent auction on Handbid.&nbsp\;<br />\n<br />\n<strong><a href="https://events.handbid.com/auctions/sample-urbandale-2020-auction">BID NOW! THE AUCTION IS LIVE!</a></strong></span></span>
LOCATION:A link to the auction will be live starting on Monday\, October 26 at 8 am! Want to make sure you are ready to bid on October 26? Download the app and create an account today! Apple Store Download: https://apps.apple.com/us/app/handbid-for-ipad/id476689122 Google Store Download: https://play.google.com/store/apps/details?id=com.handbid.android&hl=en_US
UID:e.1185.10969
SEQUENCE:3
DTSTAMP:20260424T043605Z
URL:http://getaquote-mobile.uniquelyurbandale.com/events/details/sample-urbandale-support-our-mission-silent-auction-10969
END:VEVENT

END:VCALENDAR
