BEGIN:VCALENDAR
VERSION:2.0
PRODID:-//ChamberMaster//Event Calendar 2.0//EN
METHOD:PUBLISH
X-PUBLISHED-TTL:P3D
REFRESH-INTERVAL:P3D
CALSCALE:GREGORIAN
BEGIN:VEVENT
DTSTART:20140925T220000Z
DTEND:20140926T010000Z
X-MICROSOFT-CDO-ALLDAYEVENT:FALSE
SUMMARY:Sample Urbandale\, Presented by WineStyles Johnston & West Bank-Urbandale
DESCRIPTION:Join us for the Urbandale Chamber's premier Wine & Food Tasting! Sip on wine and enjoy appetizers from 12 member restaurants and bid on one-of-a-kind silent auction items all while enjoying live musical entertainment by Monkey\, Monkey\, Monkey!\n\n\n\n$25 in advance/$35 at door \n\nThursday\, September 25th\n\nHilton Garden Inn (8600 Northpark Drive)\n\n5-8 pm\n\n\n\nReminder: You MUST stop by the Chamber office before the event to pick up your ticket.  Only those with a ticket may enter the event.  Tickets are nonrefundable.  The Chamber is not responsible for lost or stolen tickets. \n\n\n\nThank you to all our sponsors for this event:\n\nPresenting: WineStyles Johnston & West Bank 99th Street\n\n\n\nGold: Des Moines Urbandale Hilton Garden Inn and Lincoln Savings Bank\n\n\n\nSilver: Enventis\, ETM Creative\, Midland Credit Union\, OverTime - Neighborhood Hub 4 Sports & Grub\, Plaza Florist\, Ryun\,Givens & Company\, P.L.C. and Signs Now\n\n\n\nBronze: Hockenbergs\, Shive-Hattery and Staples\, Inc.\n\n\n\nThank you to our Plate Sponsor: Mail Services\, LLC\n\n\n\nThank you to our participating food vendors:\n\nChocolaterie Stam\n\nDeerfield Retirement Community\n\nEdible Arrangements\n\nFamous Dave's BBQ - Urbandale\n\nGranite City Food & Brewery\n\nHal & Al's Q & Catering\n\nHungry Boyz\n\nIN the BAG Corporate Cuisine\n\nOverTime \n\nPark Place Catering\n\nPizza Ranch Urbandale\n\nThe Urban Grill
X-ALT-DESC;FMTTYPE=text/html:<p align="left"><span style="font-size: 12px">Join us for the Urbandale Chamber&rsquo\;s premier Wine &amp\; Food Tasting! Sip on wine and enjoy appetizers from 12 member restaurants and bid on one-of-a-kind silent auction items all while enjoying live musical entertainment by Monkey\, Monkey\, Monkey!</span><br />\n<br />\n<span style="font-size: 12px">$25 in advance/$35 at door</span><font size="2"><font size="2"><span _fck_bookmark="1" style="display: none">&nbsp\;</span></font></font></p>\n\n<p>Thursday\, September 25th<br />\nHilton Garden Inn (8600&nbsp\;Northpark&nbsp\;Drive)<br />\n5-8 pm<br />\n<br />\n<span style="font-size: 12px"><strong><span style="background-color: #ffff00">Reminder: You MUST stop by the Chamber office before the event to pick up your ticket.&nbsp\; Only those with a ticket may enter the event.&nbsp\; Tickets are nonrefundable.&nbsp\; The Chamber is not responsible for lost or stolen tickets.</span></strong></span><span style="font-size: 12px">&nbsp\;<br />\n<br />\n<strong><span style="font-size:14px\;">Thank you to all our sponsors for this event:</span></strong></span><br />\n<strong>Presenting</strong>: WineStyles Johnston &amp\; West Bank 99th Street<br />\n<br />\n<strong>Gold</strong>:&nbsp\;Des Moines Urbandale Hilton Garden Inn and Lincoln Savings Bank<br />\n<br />\n<strong>Silver</strong>: Enventis\, ETM Creative\, Midland Credit Union\, OverTime - Neighborhood Hub 4 Sports &amp\; Grub\, Plaza Florist\,&nbsp\;Ryun\,Givens &amp\; Company\, P.L.C. and Signs Now</p>\n\n<p><br />\n<strong>Bronze</strong>: Hockenbergs\,&nbsp\;<span style="font-size: 12px\;">Shive-Hattery and&nbsp\;</span><span style="font-size: 12px\;">Staples\, Inc.<br />\n<br />\nThank you to our <strong>Plate Sponsor</strong>: Mail Services\, LLC<br />\n<br />\nThank you to our participating <strong>food vendors</strong>:</span></p>\n\n<div>Chocolaterie Stam<br />\nDeerfield Retirement Community<br />\nEdible Arrangements<br />\nFamous Dave&#39\;s BBQ - Urbandale<br />\nGranite City Food &amp\; Brewery<br />\nHal &amp\; Al&#39\;s Q &amp\; Catering<br />\nHungry Boyz<br />\nIN the BAG Corporate Cuisine<br />\nOverTime&nbsp\;<br />\nPark Place Catering<br />\nPizza Ranch Urbandale<br />\nThe Urban Grill</div>\n
LOCATION:Hilton Garden Inn (8600 Northpark Drive)
UID:e.1185.3818
SEQUENCE:3
DTSTAMP:20260419T152929Z
URL:http://getaquote-mobile.uniquelyurbandale.com/events/details/sample-urbandale-presented-by-winestyles-johnston-west-bank-urbandale-09-25-2014-3818
END:VEVENT

END:VCALENDAR
