BEGIN:VCALENDAR
VERSION:2.0
PRODID:-//ChamberMaster//Event Calendar 2.0//EN
METHOD:PUBLISH
X-PUBLISHED-TTL:P3D
REFRESH-INTERVAL:P3D
CALSCALE:GREGORIAN
BEGIN:VEVENT
DTSTART:20151105T230000Z
DTEND:20151106T020000Z
X-MICROSOFT-CDO-ALLDAYEVENT:FALSE
SUMMARY:Sample Urbandale\, A Celebration of Business!
DESCRIPTION:NEW EVENT! We have combined our two best annual events\, Sample Urbandale and Celebration of Business\, into one extravagant evening taking place on Thursday\, November 5th at the Ramada Tropics Resort and Conference Center! Join us for wine and food sampling\, a silent auction\, live music from Monkey Monkey Monkey and our awards program! We will be honoring our 2015 Citizen of the Year and revealing our 2015 Business and Connector of the Year.\n\n\n\nNEW THIS YEAR\, we will be adding a "Best in Class" segment to our Awards Ceremony. We will have multiple categories with several nominees per category (chosen by our membership!) and unveil all the winners on this night! This jam-packed evening is one of a kind and sure to be the talk of the town! Voting is now closed.\n\n\n\n ANOTHER NEW ADDITION ! We are thrilled to offer you the luxury of mobile phone bidding this year! No more hovering over sheets of papers\, wondering if you got out bid or not.  Now\, you will receive a fancy alert on your smart phone every time you are outbid and with one click\, you bid on an item.  It's very easy and super convenient!  Before the event (whether you can attend or not)\, be sure to download the app HANDBID on your smart phone App Store or Market to bid.  \n\n\n\nThank you to all of our sponsors for this event:  \n\nDiamond:  WineStyles and Park Place Catering\n\nGold: West Bank\n\nSilver:  Consolidated Communications\, ETM Creative\, Midland Credit Union\, Plaza Florist\, and Ryun\, Givens & Company\, P.L.C.\n\nBronze:  Hockenbergs\, Hungry Boyz\, Merit Resources\, Merle Hay Mall\, Shive-Hattery and Signs Now\n\nPlate:  Mail Services\, LLC\n\n\n\nDetails:\n\nThursday\, November 5th\n\n5:00-8:00 pm\n\nRamada Tropics Resort and Conference Center (5000 Merle Hay Road\, Urbandale)\n\nAttire: Cocktail\n\nPrice: $35/person\n\n\n\nWe are thrilled to have the following member restaurants serving you their finest appetizers:\n\nDeerfield Retirement Community\n\nDevilish Pig Bakery\n\nEdible Arrangements\n\nFamous Dave's BBQ - Urbandale\n\nHal & Al's Q & Catering\n\nIN the BAG Corporate Cuisine\n\nLakeside Hotel and Casino\n\nBeer House\n\nPark Place Catering\n\nSam & Gabes\n\nSam & Louie's Pizza\n\nThe Urban Grill\n\nWhole Foods Market
X-ALT-DESC;FMTTYPE=text/html:<p style="font-family: Arial\; font-size: 10pt\; font-weight: 700\; line-height: 19.3939px\; padding-bottom: 4px\;"><span style="font-size:12px\;"><span style="font-family:arial\;">NEW EVENT! We have combined our two best annual events\, Sample&nbsp\;Urbandale&nbsp\;and Celebration of Business\, into one extravagant evening taking place on Thursday\, November 5th at the Ramada Tropics Resort and Conference Center! Join us for wine and food sampling\, a silent auction\, live music from Monkey Monkey Monkey and our awards program! We will be honoring our 2015 Citizen of the Year and revealing our 2015 Business and Connector of the Year.<br />\n<br />\nNEW THIS YEAR\, we will be adding a &quot\;Best in Class&quot\; segment to our Awards Ceremony. We will have multiple categories with several nominees per category (chosen by our membership!) and unveil all the winners on this night! This jam-packed evening is one of a kind and sure to be the talk of the town! Voting is now closed.<br />\n<br />\n&nbsp\;ANOTHER NEW ADDITION ! We are thrilled to offer you the luxury of mobile phone bidding this year! No more hovering over sheets of papers\, wondering if you got out bid or not. &nbsp\;Now\, you will receive a fancy alert on your smart phone every time you are outbid and with one click\, you bid on an item. &nbsp\;It&#39\;s very easy and super convenient! &nbsp\;Before the event (whether you can attend or not)\, be sure to<strong><span style="background-color: rgb(255\, 255\, 0)\;">&nbsp\;download the app&nbsp\;</span><span style="background-color: rgb(255\, 255\, 0)\;">HANDBID</span><span style="background-color: rgb(255\, 255\, 0)\;">&nbsp\;on your smart phone</span></strong>&nbsp\;App Store or Market to bid. &nbsp\;<br />\n<br />\nThank you to all of our sponsors for this event: &nbsp\;<br />\nDiamond: &nbsp\;WineStyles&nbsp\;and Park Place Catering<br />\nGold: West Bank<br />\nSilver: &nbsp\;Consolidated Communications\, ETM Creative\, Midland Credit Union\, Plaza Florist\, and&nbsp\;Ryun\, Givens &amp\; Company\, P.L.C.<br />\nBronze: &nbsp\;Hockenbergs\, Hungry&nbsp\;Boyz\, Merit Resources\, Merle Hay Mall\,&nbsp\;Shive-Hattery&nbsp\;and Signs Now<br />\nPlate: &nbsp\;Mail Services\, LLC<br />\n<br />\nDetails:<br />\nThursday\, November 5th<br />\n5:00-8:00 pm<br />\nRamada Tropics Resort and Conference Center (5000 Merle Hay Road\,&nbsp\;Urbandale)<br />\nAttire: Cocktail<br />\nPrice: $35/person<br />\n<br />\nWe are thrilled to have the following member restaurants serving you their finest appetizers:<br />\nDeerfield Retirement Community<br />\nDevilish Pig Bakery<br />\nEdible Arrangements<br />\nFamous Dave&#39\;s BBQ -&nbsp\;Urbandale<br />\nHal &amp\; Al&#39\;s Q &amp\; Catering<br />\nIN the BAG Corporate Cuisine<br />\nLakeside Hotel and Casino<br />\nBeer House<br />\nPark Place Catering<br />\nSam &amp\;&nbsp\;Gabes<br />\nSam &amp\; Louie&#39\;s Pizza<br />\nThe Urban Grill<br />\nWhole Foods Market</span></span><br />\n&nbsp\;</p>\n
LOCATION:Ramada Tropics Resort and Conference Center (5000 Merle Hay Road\, Urbandale)
UID:e.1185.4121
SEQUENCE:3
DTSTAMP:20260420T100955Z
URL:http://getaquote-mobile.uniquelyurbandale.com/events/details/sample-urbandale-a-celebration-of-business-11-05-2015-4121
END:VEVENT

END:VCALENDAR
