BEGIN:VCALENDAR
VERSION:2.0
PRODID:-//ChamberMaster//Event Calendar 2.0//EN
METHOD:PUBLISH
X-PUBLISHED-TTL:P3D
REFRESH-INTERVAL:P3D
CALSCALE:GREGORIAN
BEGIN:VEVENT
DTSTART:20170203T230000Z
DTEND:20170204T003000Z
X-MICROSOFT-CDO-ALLDAYEVENT:FALSE
SUMMARY:Run with the Mayor
DESCRIPTION:Come and help Mayor Paula Dierenfeld of Johnston complete the last of her 316 miles\, a representation of the 316 bags of food and $10 donations to the Johnston Food Pantry in the month of December. She began her journey of running 316 miles on December 31st\, and will be celebrating the last of them at Heartland Soles on February 3rd\, 2017 for a run with the community!
X-ALT-DESC;FMTTYPE=text/html:Come and help Mayor Paula Dierenfeld of Johnston complete the last of her 316 miles\, a representation of the 316 bags of food and $10 donations to the Johnston Food Pantry in the month of December. She began her journey of running 316 miles on December 31st\, and will be celebrating the last of them at Heartland Soles on February 3rd\, 2017 for a run with the community!
LOCATION:Heartland Soles 5525 Merle Hay Rd Johnston\, IA 50131
UID:e.1185.5123
SEQUENCE:3
DTSTAMP:20260421T080918Z
URL:http://getaquote-mobile.uniquelyurbandale.com/events/details/run-with-the-mayor-5123
END:VEVENT

END:VCALENDAR
