BEGIN:VCALENDAR
VERSION:2.0
PRODID:-//ChamberMaster//Event Calendar 2.0//EN
METHOD:PUBLISH
X-PUBLISHED-TTL:P3D
REFRESH-INTERVAL:P3D
CALSCALE:GREGORIAN
BEGIN:VEVENT
DTSTART:20160916T163000Z
DTEND:20160916T213000Z
X-MICROSOFT-CDO-ALLDAYEVENT:FALSE
SUMMARY:Rotary of NW Des Moines Golf Tournment
DESCRIPTION:Money will be used to suport Children's Litercy and Humanitarian Program in Urbandale. Children's books in local health clinics\, backpacks and school suplies\, as well as winter coats for school children.
X-ALT-DESC;FMTTYPE=text/html:Money will be used to suport Children&#39\;s Litercy and Humanitarian Program in Urbandale. Children&#39\;s books in local health clinics\, backpacks and school suplies\, as well as winter coats for school children.
LOCATION:Urbandale Golf and Country Club 4000 86th Street Urbandale\, Iowa 50322
UID:e.1185.4882
SEQUENCE:3
DTSTAMP:20260421T003705Z
URL:http://getaquote-mobile.uniquelyurbandale.com/events/details/rotary-of-nw-des-moines-golf-tournment-09-16-2016-4882
END:VEVENT

END:VCALENDAR
